Workbook

Sheet 1
A14: صندوق اختصاصی بازارگردانی امید لوتوس پارسیان
A16: صورت وضعیت پرتفوی
A19: برای ماه منتهی به 1405/06/31

Sheet  سهام
A1: صندوق اختصاصی بازارگردانی امید لوتوس پارسیان
A2: صورت وضعیت پرتفوی
A3: برای ماه منتهی به 1405/06/31
A5: 1- سرمایه گذاری ها
A6: 1-1-سرمایه‌گذاری در سهام و حق تقدم سهام
B8: 1405/06/01 | E8: تغییرات طی دوره | I8: 1405/06/31
A9: نام شرکت | B9: تعداد | C9: بهای تمام شده | D9: خالص ارزش فروش | E9: خرید طی دوره | G9: فروش طی دوره | I9: تعداد | J9: قیمت بازار هر سهم | K9: بهای تمام شده | L9: خالص ارزش فروش | M9: درصد به کل دارایی‌ها
E10: تعداد | F10: مبلغ خرید | G10: تعداد | H10: مبلغ فروش
A11: اشتاد ایران (تشتاد) | B11: 6665380 | C11: 47769727395 | D11: 33234968413 | E11: 0 | F11: 0 | G11: 0 | H11: 0 | I11: 6665380 | J11: 6680 | K11: 47769727395 | L11: 44490899603 | M11: 0.02
A12: ایران خودرو (خودرو) | B12: 10449397063 | C12: 4736342948815 | D12: 6755621722237 | E12: 2123012828 | F12: 1512068608043 | G12: 2515305012 | H12: 1828261387420 | I12: 10057104879 | J12: 667 | K12: 5084864340280 | L12: 6702990806692 | M12: 3.01
A13: ایران خودرو دیزل (خاور) | B13: 786519511 | C13: 2098835902894 | D13: 1127011798350 | E13: 0 | F13: 0 | G13: 3000000 | H13: 4903466432 | I13: 783519511 | J13: 1474 | K13: 2090830370138 | L13: 1144744570934 | M13: 0.51
A14: بانک پارسیان (وپارس) | B14: 28507060719 | C14: 24138705311926 | D14: 43867508843394 | E14: 191500000 | F14: 382187156389 | G14: 3890133780 | H14: 7686768664456 | I14: 24808426939 | J14: 2308 | K14: 21218910972397 | L14: 57214333409687 | M14: 25.68
A15: بورس اوراق بهادار تهران (بورس) | B15: 51860839 | C15: 225024543598 | D15: 221795697983 | E15: 0 | F15: 0 | G15: 0 | H15: 0 | I15: 51860839 | J15: 5290 | K15: 225024543598 | L15: 274135336995 | M15: 0.12
A16: بیمه اتکای آوای پارس (آواپارس) | B16: 524473432 | C16: 1071581251480 | D16: 1729446946233 | E16: 0 | F16: 0 | G16: 4064117 | H16: 16693818342 | I16: 520409315 | J16: 4260 | K16: 1063277624805 | L16: 2215258804705 | M16: 0.99
A17: بیمه پارسیان (پارسیان) | B17: 6851858655 | C17: 7735785944310 | D17: 11201121432603 | E17: 0 | F17: 0 | G17: 4000000 | H17: 6930728694 | I17: 6847858655 | J17: 1837 | K17: 7731269922405 | L17: 12569955916812 | M17: 5.64
A18: پارس خودرو (خپارس) | B18: 55638790 | C18: 51903461045 | D18: 74777298579 | E18: 84038009 | F18: 155800905937 | G18: 115338187 | H18: 187606053631 | I18: 24338612 | J18: 2172 | K18: 52323045136 | L18: 52823289033 | M18: 0.02
A19: تامین سرمایه لوتوس پارسیان (لوتوس) | B19: 1800358337 | C19: 4217977835528 | D19: 5037172181059 | E19: 0 | F19: 0 | G19: 0 | H19: 0 | I19: 1800358337 | J19: 3420 | K19: 4217977835528 | L19: 6152546021153 | M19: 2.76
A20: تجارت الکترونیک پارسیان (رتاپ) | B20: 199889276 | C20: 836600185380 | D20: 1709751802886 | E20: 0 | F20: 0 | G20: 0 | H20: 0 | I20: 199889276 | J20: 9630 | K20: 836600185380 | L20: 1923470778251 | M20: 0.86
A21: تجارت الکترونیک پارسیان کیش (تاپکیش) | B21: 220690469 | C21: 536566667267 | D21: 315713063496 | E21: 0 | F21: 0 | G21: 0 | H21: 0 | I21: 220690469 | J21: 2490 | K21: 536566667267 | L21: 549101633170 | M21: 0.25
A22: تجارت الکترونیک پارسیان کیش (حق تقدم) (تاپکیشح) | B22: 206507495 | C22: 295575983547 | D22: 661229156913 | E22: 0 | F22: 0 | G22: 0 | H22: 0 | I22: 206507495 | J22: 1095 | K22: 295575983547 | L22: 224823222957 | M22: 0.1
... A41: ملی صنایع مس ایران (فملی) | B41: 28821918 | C41: 205767651976 | D41: 552384255906 | E41: 0 | F41: 0 | G41: 0 | H41: 0 | I41: 28821918 | J41: 24310 | K41: 205767651976 | L41: 700128324356 | M41: 0.31
A42: جمع | C42: 55350544378358 | D42: 84532758173531 | F42: 9887906763926 | H42: 1.728804e+13 | J42: 131043 | K42: 54444447551345 | L42: 102896117873019 | M42: 46.17

Sheet اوراق مشتقه (اختیار)
A1: صندوق اختصاصی بازارگردانی امید لوتوس پارسیان
A2: صورت وضعیت پرتفوی
A3: برای ماه منتهی به 1405/06/31
A5: اطلاعات آماری مرتبط با موقعیت های اخذ شده در اوراق اختیار معامله توسط صندوق سرمایه گذاری:
B7: 1405/06/01 | H7: 1405/06/31
A8: نام قرارداد | B8: نوع اختیار | C8: نوع موقعیت | D8: استراتژی ماخوذه | E8: تعداد اوراق | F8: قیمت اعمال | G8: تاریخ اعمال | H8: نوع اختیار | I8: نوع موقعیت | J8: استراتژی ماخوذه | K8: تعداد اوراق | L8: قیمت اعمال | M8: تاریخ اعمال
A9: اختیار خرید شمش نقره-2400000-1405/09/28 (SLAZ05C240) | B9: اختیار خرید | C9: موقعیت فروش | E9: 2 | F9: 2400000 | G9: 1405/09/28 | H9: اختیار خرید | I9: موقعیت خرید | K9: 96 | L9: 2400000 | M9: 1405/09/28
A10: اختیار خرید شمش نقره-2700000-1405/09/28 (SLAZ05C270) | B10: اختیار خرید | C10: موقعیت فروش | E10: 197 | F10: 2700000 | G10: 1405/09/28 | H10: اختیار خرید | I10: موقعیت فروش | K10: 197 | L10: 2700000 | M10: 1405/09/28
A11: اختیار خرید شمش نقره-3000000-1405/06/24 (SLSH05C300) | B11: اختیار خرید | C11: موقعیت فروش | E11: 160 | F11: 3000000 | G11: 1405/06/24 | K11: 0 | L11: 0
A12: اختیار خرید شمش نقره-3000000-1405/09/28 (SLAZ05C300) | B12: اختیار خرید | C12: موقعیت فروش | E12: 443 | F12: 3000000 | G12: 1405/09/28 | H12: اختیار خرید | I12: موقعیت فروش | K12: 513 | L12: 3000000 | M12: 1405/09/28
A13: اختیار خرید شمش نقره-3300000-1405/09/28 (SLAZ05C330) | B13: اختیار خرید | C13: موقعیت فروش | E13: 233 | F13: 3300000 | G13: 1405/09/28 | H13: اختیار خرید | I13: موقعیت فروش | K13: 233 | L13: 3300000 | M13: 1405/09/28
A14: اختیار خرید شمش نقره-3500000-1405/06/24 (SLSH05C350) | B14: اختیار خرید | C14: موقعیت فروش | E14: 593 | F14: 3500000 | G14: 1405/06/24 | K14: 0 | L14: 0
A15: اختیار خرید شمش نقره-3600000-1405/09/28 (SLAZ05C360) | B15: اختیار خرید | C15: موقعیت فروش | E15: 116 | F15: 3600000 | G15: 1405/09/28 | H15: اختیار خرید | I15: موقعیت فروش | K15: 116 | L15: 3600000 | M15: 1405/09/28
A16: اختیار خرید شمش نقره-3900000-1405/09/28 (SLAZ05C390) | B16: اختیار خرید | C16: موقعیت فروش | E16: 106 | F16: 3900000 | G16: 1405/09/28 | H16: اختیار خرید | I16: موقعیت فروش | K16: 106 | L16: 3900000 | M16: 1405/09/28
A17: اختیار خرید شمش نقره-4000000-1405/06/24 (SLSH05C400) | B17: اختیار خرید | C17: موقعیت فروش | E17: 542 | F17: 4000000 | G17: 1405/06/24 | K17: 0 | L17: 0
A18: اختیار خرید شمش نقره-4200000-1405/09/28 (SLAZ05C420) | B18: اختیار خرید | C18: موقعیت فروش | E18: 100 | F18: 4200000 | G18: 1405/09/28 | H18: اختیار خرید | I18: موقعیت فروش | K18: 100 | L18: 4200000 | M18: 1405/09/28
A19: اختیار خرید شمش نقره-4500000-1405/06/24 (SLSH05C450) | B19: اختیار خرید | C19: موقعیت فروش | E19: 200 | F19: 4500000 | G19: 1405/06/24 | K19: 0 | L19: 0
A20: اختیار خرید شمش نقره-4500000-1405/12/22 (SLES05C450) | E20: 0 | F20: 0 | H20: اختیار خرید | I20: موقعیت فروش | K20: 100 | L20: 4500000 | M20: 1405/12/22
A21: اختیار خرید شمش نقره-5000000-1405/06/24 (SLSH05C500) | E21: 0 | F21: 0 | H21: اختیار خرید | I21: موقعیت فروش | K21: 100 | L21: 5000000 | M21: 1405/06/24
A22: اختیار خرید لوتوس-1000000-1405/07/25 (TLME05C100) | B22: اختیار خرید | C22: موقعیت فروش | E22: 12965 | F22: 1000000 | G22: 1405/07/25 | H22: اختیار خرید | I22: موقعیت فروش | K22: 13226 | L22: 1000000 | M22: 1405/07/25
A23: اختیار خرید لوتوس-1100000-1405/10/27 (TLDY05C110) | B23: اختیار خرید | C23: موقعیت فروش | E23: 19070 | F23: 1100000 | G23: 1405/10/27 | H23: اختیار خرید | I23: موقعیت فروش | K23: 19070 | L23: 1100000 | M23: 1405/10/27
A24: اختیار خرید لوتوس-1100000-1406/01/28 (TLFA06C110) | B24: اختیار خرید | C24: موقعیت خرید | E24: 10815 | F24: 1100000 | G24: 1406/01/28 | H24: اختیار خرید | I24: موقعیت خرید | K24: 10815 | L24: 1100000 | M24: 1406/01/28
A25: اختیار خرید لوتوس-1200000-1405/07/25 (TLME05C120) | B25: اختیار خرید | C25: موقعیت فروش | E25: 2745 | F25: 1200000 | G25: 1405/07/25 | H25: اختیار خرید | I25: موقعیت فروش | K25: 2745 | L25: 1200000 | M25: 1405/07/25
A26: اختیار خرید لوتوس-1300000-1405/10/27 (TLDY05C130) | B26: اختیار خرید | C26: موقعیت فروش | E26: 25522 | F26: 1300000 | G26: 1405/10/27 | H26: اختیار خرید | I26: موقعیت فروش | K26: 25522 | L26: 1300000 | M26: 1405/10/27
A27: اختیار خرید لوتوس-1300000-1406/01/28 (TLFA06C130) | B27: اختیار خرید | C27: موقعیت فروش | E27: 1 | F27: 1300000 | G27: 1406/01/28 | H27: اختیار خرید | I27: موقعیت فروش | K27: 1 | L27: 1300000 | M27: 1406/01/28
A28: اختیار خرید لوتوس-1400000-1405/07/25 (TLME05C140) | B28: اختیار خرید | C28: موقعیت فروش | E28: 37995 | F28: 1400000 | G28: 1405/07/25 | H28: اختیار خرید | I28: موقعیت فروش | K28: 26996 | L28: 1400000 | M28: 1405/07/25
A29: اختیار خرید لوتوس-1500000-1405/10/27 (TLDY05C150) | B29: اختیار خرید | C29: موقعیت فروش | E29: 33478 | F29: 1500000 | G29: 1405/10/27 | H29: اختیار خرید | I29: موقعیت فروش | K29: 33478 | L29: 1500000 | M29: 1405/10/27
A30: اختیار خرید لوتوس-1500000-1406/01/28 (TLFA06C150) | B30: اختیار خرید | C30: موقعیت فروش | E30: 76500 | F30: 1500000 | G30: 1406/01/28 | H30: اختیار خرید | I30: موقعیت فروش | K30: 76500 | L30: 1500000 | M30: 1406/01/28
A31: اختیار خرید لوتوس-1600000-1405/07/25 (TLME05C160) | B31: اختیار خرید | C31: موقعیت فروش | E31: 34105 | F31: 1600000 | G31: 1405/07/25 | H31: اختیار خرید | I31: موقعیت فروش | K31: 44105 | L31: 1600000 | M31: 1405/07/25
A32: اختیار خرید لوتوس-1700000-1405/10/27 (TLDY05C170) | B32: اختیار خرید | C32: موقعیت فروش | E32: 36189 | F32: 1700000 | G32: 1405/10/27 | H32: اختیار خرید | I32: موقعیت فروش | K32: 36189 | L32: 1700000 | M32: 1405/10/27
A33: اختیار خرید لوتوس-1800000-1405/07/25 (TLME05C180) | B33: اختیار خرید | C33: موقعیت فروش | E33: 19868 | F33: 1800000 | G33: 1405/07/25 | H33: اختیار خرید | I33: موقعیت فروش | K33: 19868 | L33: 1800000 | M33: 1405/07/25
A34: اختیار خرید لوتوس-1900000-1405/10/27 (TLDY05C190) | B34: اختیار خرید | C34: موقعیت فروش | E34: 11400 | F34: 1900000 | G34: 1405/10/27 | H34: اختیار خرید | I34: موقعیت فروش | K34: 11400 | L34: 1900000 | M34: 1405/10/27
A35: اختیار خرید لوتوس-1900000-1406/01/28 (TLFA06C190) | E35: 0 | F35: 0 | H35: اختیار خرید | I35: موقعیت فروش | K35: 20 | L35: 1900000 | M35: 1406/01/28
A36: اختیار خرید لوتوس-2000000-1405/07/25 (TLME05C200) | B36: اختیار خرید | C36: موقعیت فروش | E36: 1 | F36: 2000000 | G36: 1405/07/25 | H36: اختیار خرید | I36: موقعیت فروش | K36: 1 | L36: 2000000 | M36: 1405/07/25
A37: اختیار خرید لوتوس-2100000-1405/10/27 (TLDY05C210) | B37: اختیار خرید | C37: موقعیت فروش | E37: 10001 | F37: 2100000 | G37: 1405/10/27 | H37: اختیار خرید | I37: موقعیت فروش | K37: 10001 | L37: 2100000 | M37: 1405/10/27
A38: اختیار خرید لوتوس-2100000-1406/01/28 (TLFA06C210) | E38: 0 | F38: 0 | H38: اختیار خرید | I38: موقعیت فروش | K38: 21000 | L38: 2100000 | M38: 1406/01/28
A39: اختیار خرید لوتوس-600000-1405/07/25 (TLME05C60) | B39: اختیار خرید | C39: موقعیت فروش | E39: 7846 | F39: 600000 | G39: 1405/07/25 | H39: اختیار خرید | I39: موقعیت فروش | K39: 8043 | L39: 600000 | M39: 1405/07/25
A40: اختیار خرید لوتوس-700000-1405/07/25 (TLME05C70) | E40: 0 | F40: 0 | H40: اختیار خرید | I40: موقعیت فروش | K40: 3 | L40: 700000 | M40: 1405/07/25
A41: اختیار خرید لوتوس-700000-1405/10/27 (TLDY05C70) | B41: اختیار خرید | C41: موقعیت خرید | E41: 18 | F41: 700000 | G41: 1405/10/27 | H41: اختیار خرید | I41: موقعیت خرید | K41: 18 | L41: 700000 | M41: 1405/10/27
A42: اختیار خرید لوتوس-800000-1405/07/25 (TLME05C80) | B42: اختیار خرید | C42: موقعیت فروش | E42: 15001 | F42: 800000 | G42: 1405/07/25 | H42: اختیار خرید | I42: موقعیت فروش | K42: 15054 | L42: 800000 | M42: 1405/07/25
A43: اختیار خرید لوتوس-900000-1405/10/27 (TLDY05C90) | B43: اختیار خرید | C43: موقعیت خرید | E43: 565 | F43: 900000 | G43: 1405/10/27 | H43: اختیار خرید | I43: موقعیت خرید | K43: 565 | L43: 900000 | M43: 1405/10/27
A44: اختیار خرید لوتوس-900000-1406/01/28 (TLFA06C90) | E44: 0 | F44: 0 | H44: اختیار خرید | I44: موقعیت خرید | K44: 1324 | L44: 900000 | M44: 1406/01/28
A45: جمع | E45: =SUBTOTAL(109,E9:E44) -> 356777 | K45: =SUBTOTAL(109,K9:K44) -> 377505

Sheet واحدهای صندوق
A1: صندوق اختصاصی بازارگردانی امید لوتوس پارسیان
A2: صورت وضعیت پرتفوی
A3: برای ماه منتهی به 1405/06/31
A5: 1- سرمایه گذاری ها
A6: 2-1-سرمایه‌گذاری در واحدهای صندوق های سرمایه گذاری
B8: 1405/06/01 | E8: تغییرات طی دوره | I8: 1405/06/31
A9: نام صندوق | B9: تعداد واحد | C9: بهای تمام شده | D9: خالص ارزش فروش | E9: خرید/صدور طی دوره | G9: فروش/ابطال طی دوره | I9: تعداد | J9: قیمت ابطال بازار هر واحد | K9: بهای تمام شده | L9: خالص ارزش فروش | M9: درصد به کل دارایی‌ها
E10: تعداد | F10: بهای تمام شده | G10: تعداد | H10: مبلغ فروش
A11: اعتماد آفرین پارسیان (اعتماد) | B11: 20864373 | C11: 2765792791271 | D11: 2845022981344 | E11: 21156955 | F11: 2915492047031 | G11: 20544546 | H11: 2829775695864 | I11: 21476782 | J11: 140238 | K11: 2949548034788 | L11: 3011638829373 | M11: 1.35
A12: ثروت آفرین پارسیان (ثروتم) | B12: 59876885 | C12: 13568093324323 | D12: 30146912736639 | E12: 1532635 | F12: 831331741078 | G12: 9083626 | H12: 4942010761687 | I12: 52325894 | J12: 590621 | K12: 12305305304612 | L12: 30890555645131 | M12: 13.87
A13: پشتوانه چندکالایی پارسیان (طلا) | B13: 22858781 | C13: 15516583736360 | D13: 34053837317051 | E13: 176620 | F13: 274254826507 | G13: 1481209 | H13: 2329529849070 | I13: 21554192 | J13: 1682317 | K13: 1.4780917e+13 | L13: 36239227032695 | M13: 16.27
A14: ص س اندیشه ورزان صبا تامین (اوصتا) | B14: 150580000 | C14: 10001671032671 | D14: 10277811059111 | E14: 230160000 | F14: 1.5935673e+13 | G14: 191893316 | H14: 13346582766063 | I14: 188846684 | J14: 70265 | K14: 12885151033195 | L14: 13264419192447 | M14: 5.95
A15: یاقوت آگاه-ثابت (یاقوت) | B15: 6100000 | C15: 199647658550 | D15: 279026970849 | E15: 0 | F15: 0 | G15: 6100000 | H15: 281271416572 | I15: 0 | J15: 0 | K15: 0 | L15: 0 | M15: 0
A16: ص. س. اعتماد داریک (داریک) | B16: 3435000 | C16: 124985396311 | D16: 136693490681 | E16: 0 | F16: 0 | G16: 3435000 | H16: 138258192714 | I16: 0 | J16: 0 | K16: 0 | L16: 0 | M16: 0
A17: ثبات ویستا (ثبات) | B17: 101250000 | C17: 3042710965029 | D17: 3701144699437 | E17: 59200000 | F17: 2191613343409 | G17: 47699878 | H17: 1791047451160 | I17: 112750122 | J17: 37659 | K17: 3465259210451 | L17: 4244491110942 | M17: 1.91
A18: اعتماد هامرز (هامرز) | B18: 160000000 | C18: 1627521184707 | D18: 1621002035000 | E18: 0 | F18: 0 | G18: 40000000 | H18: 400812146014 | I18: 120000000 | J18: 10142 | K18: 1220640888530 | L18: 1216591216500 | M18: 0.55
A19: رشد پایدار آبان (رشد) | B19: 71067335 | C19: 1510660559127 | D19: 1525587629021 | E19: 5000 | F19: 107979800 | G19: 60689063 | H19: 1332450153543 | I19: 10383272 | J19: 22113 | K19: 220439327882 | L19: 229520626799 | M19: 0.1
A20: ارزش پاداش (پاداش) | B20: 161272000 | C20: 3728723808817 | D20: 4475743496763 | E20: 25400000 | F20: 716579014828 | G20: 51972000 | H20: 1477247412104 | I20: 134700000 | J20: 28586 | K20: 3300997531002 | L20: 3849114315528 | M20: 1.73
A21: مختص اوراق دولتی نشان هامرز (نشان) | B21: 126100000 | C21: 3515869182897 | D21: 3913330926904 | E21: 0 | F21: 0 | G21: 0 | H21: 0 | I21: 126100000 | J21: 31968 | K21: 3515869182897 | L21: 4029678307980 | M21: 1.81
A22: نوع دوم افق آتی (آفاق) | B22: 73259789 | C22: 769354576348 | D22: 846277941576 | E22: 0 | F22: 0 | G22: 40531039 | H22: 479765112506 | I22: 32728750 | J22: 11895 | K22: 343234624846 | L22: 389164923757 | M22: 0.17
... A33: کالای پارسیان1 (نقرسا) | B33: 980000 | C33: 7952006114 | D33: 9405293436 | E33: 60000 | F33: 579806434 | G33: 50000 | H33: 494802945 | I33: 990000 | J33: 10029 | K33: 8124173635 | L33: 9922752776 | M33: 0
A34: جمع | C34: 6.9772914e+13 | D34: 108446703962486 | F34: 27932208645704 | H34: 41099000802099 | J34: 2846600 | K34: 6.2080173e+13 | L34: 105658828286481 | M34: 47.43

Sheet اوراق
A1: صندوق اختصاصی بازارگردانی امید لوتوس پارسیان
A2: صورت وضعیت پرتفوی
A3: برای ماه منتهی به 1405/06/31
A5: 1- سرمایه گذاری ها
A6: 3-1-سرمایه‌گذاری در اوراق بهادار با درآمد ثابت یا علی‌الحساب
A8: اطلاعات اوراق بهادار با درآمد ثابت | H8: 1405/06/01 | K8: تغییرات طی دوره | O8: 1405/06/31
A9: نام اوراق | B9: دارای مجوز از سازمان | C9: پذیرفته شده در بورس یا فرابورس | D9: تاریخ انتشار اوراق | E9: تاریخ سررسید | F9: نرخ سود اسمی | G9: نرخ سود مؤثر | H9: تعداد | I9: بهای تمام شده | J9: خالص ارزش فروش | K9: خرید طی دوره | M9: فروش طی دوره | O9: تعداد | P9: قیمت بازار هر ورقه | Q9: بهای تمام شده | R9: خالص ارزش فروش | S9: درصد به کل دارایی‌ها
K10: تعداد | L10: مبلغ خرید | M10: تعداد | N10: مبلغ فروش
A11: مرابحه عام دولت113-ش.خ060627 (اراد113) | B11: بلی | C11: بلی | D11: 1401/06/27 | E11: 1406/06/27 | F11: 1000000 | G11: 0.18 | H11: 5000 | I11: 4228063125 | J11: 4221936875 | K11: 0 | L11: 0 | M11: 0 | N11: 0 | O11: 5000 | P11: 845000 | Q11: 4228063125 | R11: 4221936875 | S11: 0
A12: مرابحه عام دولت115-ش.خ060630 (اراد115) | B12: بلی | C12: بلی | D12: 1401/06/30 | E12: 1406/06/30 | F12: 1000000 | G12: 0.18 | H12: 230000 | I12: 227148008990 | J12: 198116261500 | K12: 5000 | L12: 4220857905 | M12: 0 | N12: 0 | O12: 235000 | P12: 843560 | Q12: 231368866895 | R12: 198092878465 | S12: 0.09
A13: مرابحه سولیکو کاله لوتوس051117 (کاله52) | B13: بلی | C13: بلی | D13: 1401/11/17 | E13: 1405/11/17 | F13: 1000000 | G13: 0.18 | H13: 10000 | I13: 9159185598 | J13: 9284164097 | K13: 0 | L13: 0 | M13: 0 | N13: 0 | O13: 10000 | P13: 938250 | Q13: 9159185598 | R13: 9375697688 | S13: 0
A14: صکوک اجاره فولاد52-بدون ضامن (صفولا52) | B14: بلی | C14: بلی | D14: 1401/12/24 | E14: 1405/12/24 | F14: 1000000 | G14: 0.21 | H14: 5000 | I14: 4778461875 | J14: 4996375000 | K14: 0 | L14: 0 | M14: 0 | N14: 0 | O14: 5000 | P14: 1000000 | Q14: 4778461875 | R14: 4996375000 | S14: 0
A15: مرابحه عام دولت135-ش.خ061229 (اراد135) | B15: بلی | C15: بلی | D15: 1402/06/29 | E15: 1406/12/29 | F15: 1000000 | G15: 0.205 | H15: 105000 | I15: 97586549561 | J15: 86897953275 | K15: 5000 | L15: 4228063125 | M15: 0 | N15: 0 | O15: 110000 | P15: 839400 | Q15: 101814612686 | R15: 92267057850 | S15: 0.04
A16: صکوک اجاره اخابر611-3ماهه23% (صخابر611) | B16: بلی | C16: بلی | D16: 1402/11/14 | E16: 1406/11/14 | F16: 1000000 | G16: 0.23 | H16: 85000 | I16: 76962407320 | J16: 76812320664 | K16: 0 | L16: 0 | M16: 0 | N16: 0 | O16: 85000 | P16: 904330 | Q16: 76962407320 | R16: 76812320665 | S16: 0.03
A17: صکوک مرابحه کسرا612-3ماهه23% (صکسرا612) | B17: بلی | C17: بلی | D17: 1402/12/19 | E17: 1406/12/19 | F17: 1000000 | G17: 0.23 | H17: 2400 | I17: 2233618200 | J17: 2232780060 | K17: 0 | L17: 0 | M17: 0 | N17: 0 | O17: 2400 | P17: 931000 | Q17: 2233618200 | R17: 2232780060 | S17: 0
A18: صکوک مرابحه پتایر073-بدون ضامن (صتایر073) | B18: بلی | C18: بلی | D18: 1403/03/06 | E18: 1407/03/06 | F18: 1000000 | G18: 0.26 | H18: 17914 | I18: 16639820989 | J18: 16200416177 | K18: 0 | L18: 0 | M18: 0 | N18: 0 | O18: 17914 | P18: 907100 | Q18: 16639820989 | R18: 16238008306 | S18: 0.01
A19: صکوک اجاره فارس730-بدون ضامن (صفارس730) | B19: بلی | C19: بلی | D19: 1403/03/07 | E19: 1407/03/07 | F19: 1000000 | G19: 0.23 | H19: 15000 | I19: 13721981228 | J19: 13961320699 | K19: 0 | L19: 0 | M19: 0 | N19: 0 | O19: 15000 | P19: 931430 | Q19: 13721981228 | R19: 13961320700 | S19: 0.01
A20: اجاره اهداف لوتوس 14070531 (اهداف071) | B20: بلی | C20: بلی | D20: 1403/05/31 | E20: 1407/05/31 | F20: 1000000 | G20: 0.23 | H20: 5000 | I20: 4273095750 | J20: 4236926000 | K20: 0 | L20: 0 | M20: 0 | N20: 0 | O20: 5000 | P20: 848000 | Q20: 4273095750 | R20: 4236926000 | S20: 0
A21: صکوک مرابحه کگل0711-3ماهه23% (صگل0711) | B21: بلی | C21: بلی | D21: 1403/11/21 | E21: 1407/11/20 | F21: 1000000 | G21: 0.23 | H21: 10000 | I21: 8336039250 | J21: 8343946250 | K21: 0 | L21: 0 | M21: 0 | N21: 0 | O21: 10000 | P21: 835000 | Q21: 8336039250 | R21: 8343946250 | S21: 0
A22: مرابحه مقدم-لوتوس071128 (مقدم071) | B22: بلی | C22: بلی | D22: 1403/11/28 | E22: 1407/11/28 | F22: 1000000 | G22: 0.23 | H22: 10000 | I22: 9453226250 | J22: 8458862875 | K22: 0 | L22: 0 | M22: 0 | N22: 0 | O22: 10000 | P22: 846500 | Q22: 9453226250 | R22: 8458862875 | S22: 0
... A35: مرابحه عام دولت279-ش.خ080218 (اراد279) | B35: بلی | C35: بلی | D35: 1404/12/18 | E35: 1408/02/18 | F35: 1000000 | G35: 0.23 | H35: 5000 | I35: 3952863750 | J35: 3861698237 | K35: 0 | L35: 0 | M35: 0 | N35: 0 | O35: 5000 | P35: 765690 | Q35: 3952863750 | R35: 3825674375 | S35: 0
A36: جمع | F36: 25000000 | G36: 5.585 | I36: 537840286752 | J36: 496504553032 | L36: 8448921030 | N36: 0 | P36: 21583561 | Q36: 546289207782 | R36: 501432197311 | S36: 0.18

Sheet سپرده
A1: صندوق اختصاصی بازارگردانی امید لوتوس پارسیان
A2: صورت وضعیت پرتفوی
A3: برای ماه منتهی به 1405/06/31
A5: 1- سرمایه گذاری ها
A6: 1-4 سرمایه‌گذاری در سپرده‌ بانکی
B8: 1405/06/01 | C8: تغییرات طی دوره | E8: 1405/06/31
A9: سپرده های بانکی | B9: مبلغ | C9: افزایش | D9: کاهش | E9: مبلغ | F9: درصد به کل
A10: بانک پارسیان | B10: 166810364593 | C10: 3.197313e+13 | D10: 3.1869213e+13 | E10: 270727055377 | F10: 0.12
A11: بانک ملت | B11: 14781256751 | C11: 573975739895 | D11: 573362797530 | E11: 15394199116 | F11: 0.01
A12: بانک اقتصاد نوین | B12: 29337126 | C12: 9121639 | D12: 693000 | E12: 37765765 | F12: 0
A13: بانک پاسارگاد | B13: 2033662081 | C13: 105312966369 | D13: 77685130801 | E13: 29661497649 | F13: 0.01
A14: جمع | B14: 183654620551 | C14: 32652427589709 | D14: 32520261692353 | E14: 315820517907 | F14: 0.14

Sheet سپرده کالایی
A1: صندوق اختصاصی بازارگردانی امید لوتوس پارسیان
A2: صورت وضعیت پرتفوی
A3: برای ماه منتهی به 1405/06/31
A4: 1- سرمایه گذاری ها
A5: 5-1-سرمایه‌گذاری در گواهی سپرده کالایی
B7: 1405/06/01 | E7: تغییرات طی دوره | I7: 1405/06/31
A8: نام سپرده کالایی | B8: تعداد | C8: بهای تمام شده | D8: خالص ارزش فروش | E8: خرید طی دوره | G8: فروش طی دوره | I8: تعداد | J8: قیمت بازار | K8: بهای تمام شده | L8: خالص ارزش فروش | M8: درصد به کل دارایی‌ها
E9: تعداد | F9: مبلغ خرید | G9: تعداد | H9: مبلغ فروش
A10: گواهی شمش طلا CD1G0B0001 (شمش طلا) | B10: 310738 | C10: 5457548281555 | D10: 8677902328889 | E10: 16000 | F10: 475369840063 | G10: 93648 | H10: 2875557100243 | I10: 233090 | J10: 31873241 | K10: 4263446536981 | L10: 7420418544199 | M10: 3.33
A11: گواهی سپرده شمش نقره (شمش نقره) | B11: 1204064 | C11: 4999841509140 | D11: 5396236189137 | E11: 10585 | F11: 48635070980 | G11: 7085 | H11: 31873449205 | I11: 1205479 | J11: 5011375 | K11: 5011348939043 | L11: 6033857994839 | M11: 2.71
A12: جمع | C12: 10457389790695 | D12: 14074138518026 | F12: 524004911043 | H12: 2907430549448 | J12: 36884616 | K12: 9274795476024 | L12: 13454276539038 | M12: 6.04

Sheet درآمدها
A1: صندوق اختصاصی بازارگردانی امید لوتوس پارسیان
A2: صورت وضعیت درآمدها
A3: برای ماه منتهی به 1405/06/31
A5: 2- درآمد حاصل از سرمایه­گذاری‌ها
A7: شرح | B7: یادداشت | C7: مبلغ | D7: درصد از کل درآمدها | E7: درصد از کل دارایی‌ها
A8: درآمد حاصل از سرمایه گذاری در سهام، اختیار معاملات سهام،گواهی سپرده کالایی و اختیار معاملات بورس کالا(شمش) | B8: 1-2 | C8: ='درآمد سرمایه گذاری در سهام'!E79 -> 27501671290772 | D8: 71.11 | E8: 11.55
A9: درآمد حاصل از سرمایه­گذاری در واحدهای صندوق های سرمایه­گذاری | B9: 2-2 | C9: ='درآمد سرمایه گذاری در صندوق'!E34 -> 10422836782398 | D9: 28.8 | E9: 4.68
A10: درآمد حاصل از سرمایه گذاری در اوراق بهادار با درآمد ثابت | B10: 3-2 | C10: ='درآمد سرمایه گذاری در اوراق بها'!I35 -> 6894343290 | D10: 0.02 | E10: 0
A11: درآمد حاصل از سرمایه گذاری در سپرده بانکی و گواهی سپرده | B11: 4-2 | C11: ='سود سپرده بانکی'!D48 -> 230446760 | D11: 0 | E11: 0
A12: سایر درآمدها | B12: 5-2 | C12: ='سایر درآمدها'!B13 -> 25554476262 | D12: 0.07 | E12: 0.01
A13: جمع | C13: =SUBTOTAL(109,C8:C12) -> 37957187339482 | D13: 100 | E13: 16.24

Sheet درآمد سرمایه گذاری در سهام
A1: صندوق اختصاصی بازارگردانی امید لوتوس پارسیان
A2: صورت وضعیت درآمدها
A3: برای ماه منتهی به 1405/06/31
A4: 2- درآمد حاصل از سرمایه­گذاری‌ها
A5: ۲-۱درآمد حاصل از سرمایه گذاری در سهام، اختیار معاملات سهام،گواهی سپرده کالایی و اختیار معاملات بورس کالا(شمش):
B7: از 1405/06/01 تا 1405/06/31 | G7: از ابتدای سال مالی تا 1405/06/31
A8: نام شرکت | B8: درآمد سود سهام | C8: درآمد تغییر ارزش | D8: درآمد فروش | E8: جمع | G8: درآمد سود سهام | H8: درآمد تغییر ارزش | I8: درآمد فروش | J8: جمع
E9: مبلغ | F9: درصد از کل درآمدها | J9: مبلغ | K9: درصد از کل درآمدها
A10: زامیاد (خزامیا) | B10: 0 | C10: 271195734215 | D10: 109217388803 | E10: =Table29[[#This Row],[109217388803.0000]]+Table29[[#This Row],[271195734215.0000]]+Table29[[#This Row],[0]] -> 380413123018 | F10: 1.05 | G10: 0 | H10: 271195734215 | I10: 109217388803 | J10: =Table29[[#This Row],[109217388803.0000]]+Table29[[#This Row],[271195734215.0000]]+Table29[[#This Row],[0]] -> 380413123018 | K10: 1.05
A11: ایران خودرو دیزل (خاور) | B11: 0 | C11: 22031503064 | D11: 604735952 | E11: =Table29[[#This Row],[109217388803.0000]]+Table29[[#This Row],[271195734215.0000]]+Table29[[#This Row],[0]] -> 22636239016 | F11: 0.06 | G11: 0 | H11: 22031503064 | I11: 604735952 | J11: =Table29[[#This Row],[109217388803.0000]]+Table29[[#This Row],[271195734215.0000]]+Table29[[#This Row],[0]] -> 22636239016 | K11: 0.06
A12: لیزینگ رایان سایپا (ولساپا) | B12: 0 | C12: 298836294 | D12: 19503095255 | E12: =Table29[[#This Row],[109217388803.0000]]+Table29[[#This Row],[271195734215.0000]]+Table29[[#This Row],[0]] -> 19801931549 | F12: 0.05 | G12: 0 | H12: 298836294 | I12: 19503095255 | J12: =Table29[[#This Row],[109217388803.0000]]+Table29[[#This Row],[271195734215.0000]]+Table29[[#This Row],[0]] -> 19801931549 | K12: 0.05
A13: سایپا (خساپا) | B13: 0 | C13: 323653902650 | D13: 140093683177 | E13: =Table29[[#This Row],[109217388803.0000]]+Table29[[#This Row],[271195734215.0000]]+Table29[[#This Row],[0]] -> 463747585827 | F13: 1.28 | G13: 0 | H13: 323653902650 | I13: 140093683177 | J13: =Table29[[#This Row],[109217388803.0000]]+Table29[[#This Row],[271195734215.0000]]+Table29[[#This Row],[0]] -> 463747585827 | K13: 1.28
A14: فنرسازی زر (خزر) | B14: 0 | C14: -5038237146 | D14: 14602510874 | E14: =Table29[[#This Row],[109217388803.0000]]+Table29[[#This Row],[271195734215.0000]]+Table29[[#This Row],[0]] -> 9564273728 | F14: 0.03 | G14: 0 | H14: -5038237146 | I14: 14602510874 | J14: =Table29[[#This Row],[109217388803.0000]]+Table29[[#This Row],[271195734215.0000]]+Table29[[#This Row],[0]] -> 9564273728 | K14: 0.03
A15: سر. سایپا (وساپا) | B15: 0 | C15: 259490787 | D15: 47619162819 | E15: =Table29[[#This Row],[109217388803.0000]]+Table29[[#This Row],[271195734215.0000]]+Table29[[#This Row],[0]] -> 47878653606 | F15: 0.13 | G15: 0 | H15: 259490787 | I15: 47619162819 | J15: =Table29[[#This Row],[109217388803.0000]]+Table29[[#This Row],[271195734215.0000]]+Table29[[#This Row],[0]] -> 47878653606 | K15: 0.13
A16: سر. ایران خودرو (خگستر) | B16: 0 | C16: -48981567213 | D16: 62140294808 | E16: =Table29[[#This Row],[109217388803.0000]]+Table29[[#This Row],[271195734215.0000]]+Table29[[#This Row],[0]] -> 13158727595 | F16: 0.04 | G16: 0 | H16: -48981567213 | I16: 62140294808 | J16: =Table29[[#This Row],[109217388803.0000]]+Table29[[#This Row],[271195734215.0000]]+Table29[[#This Row],[0]] -> 13158727595 | K16: 0.04
A17: ایران خودرو (خودرو) | B17: 0 | C17: 67053797779 | D17: 196508066053 | E17: =Table29[[#This Row],[109217388803.0000]]+Table29[[#This Row],[271195734215.0000]]+Table29[[#This Row],[0]] -> 263561863832 | F17: 0.73 | G17: 0 | H17: 67053797779 | I17: 196508066053 | J17: =Table29[[#This Row],[109217388803.0000]]+Table29[[#This Row],[271195734215.0000]]+Table29[[#This Row],[0]] -> 263561863832 | K17: 0.73
A18: پارس خودرو (خپارس) | B18: 0 | C18: 500217403 | D18: 9350920745 | E18: =Table29[[#This Row],[109217388803.0000]]+Table29[[#This Row],[271195734215.0000]]+Table29[[#This Row],[0]] -> 9851138148 | F18: 0.03 | G18: 0 | H18: 500217403 | I18: 9350920745 | J18: =Table29[[#This Row],[109217388803.0000]]+Table29[[#This Row],[271195734215.0000]]+Table29[[#This Row],[0]] -> 9851138148 | K18: 0.03
A19: سایپا آذین (خاذین) | B19: 0 | C19: 14173561336 | D19: 11924781370 | E19: =Table29[[#This Row],[109217388803.0000]]+Table29[[#This Row],[271195734215.0000]]+Table29[[#This Row],[0]] -> 26098342706 | F19: 0.07 | G19: 0 | H19: 14173561336 | I19: 11924781370 | J19: =Table29[[#This Row],[109217388803.0000]]+Table29[[#This Row],[271195734215.0000]]+Table29[[#This Row],[0]] -> 26098342706 | K19: 0.07
A20: بانک پارسیان (وپارس) | B20: 0 | C20: 18952328856316 | D20: 1699077218044 | E20: =Table29[[#This Row],[109217388803.0000]]+Table29[[#This Row],[271195734215.0000]]+Table29[[#This Row],[0]] -> 20651406074360 | F20: 57.07 | G20: 0 | H20: 18952328856316 | I20: 1699077218044 | J20: =Table29[[#This Row],[109217388803.0000]]+Table29[[#This Row],[271195734215.0000]]+Table29[[#This Row],[0]] -> 20651406074360 | K20: 57.07
A21: کمک فنر ایندامین (خکمک) | B21: 0 | C21: 16719307621 | D21: 17520092995 | E21: =Table29[[#This Row],[109217388803.0000]]+Table29[[#This Row],[271195734215.0000]]+Table29[[#This Row],[0]] -> 34239400616 | F21: 0.09 | G21: 0 | H21: 16719307621 | I21: 17520092995 | J21: =Table29[[#This Row],[109217388803.0000]]+Table29[[#This Row],[271195734215.0000]]+Table29[[#This Row],[0]] -> 34239400616 | K21: 0.09
... A40: تجارت الکترونیک پارسیان کیش (حق تقدم) (تاپکیشح) | B40: 0 | C40: -436405933956 | D40: 0 | E40: =Table29[[#This Row],[109217388803.0000]]+Table29[[#This Row],[271195734215.0000]]+Table29[[#This Row],[0]] -> -436405933956 | F40: -1.21 | G40: 0 | H40: -436405933956 | I40: 0 | J40: =Table29[[#This Row],[109217388803.0000]]+Table29[[#This Row],[271195734215.0000]]+Table29[[#This Row],[0]] -> -436405933956 | K40: -1.21
A41: اختیار خرید لوتوس-900000-1405/10/27 (TLDY05C90) | B41: 0 | C41: =VLOOKUP(Table29[[#This Row],[زامیاد (خزامیا)]],'درآمد ناشی از تغییر قیمت اوراق '!$A$116:$E$151,5,0) -> 83874182 | D41: 0 | E41: =Table29[[#This Row],[109217388803.0000]]+Table29[[#This Row],[271195734215.0000]]+Table29[[#This Row],[0]] -> 83874182 | F41: 0 | G41: 0 | H41: 83874182 | I41: 0 | J41: =Table29[[#This Row],[109217388803.0000]]+Table29[[#This Row],[271195734215.0000]]+Table29[[#This Row],[0]] -> 83874182 | K41: 0
A42: اختیار خرید لوتوس-700000-1405/10/27 (TLDY05C70) | B42: 0 | C42: =VLOOKUP(Table29[[#This Row],[زامیاد (خزامیا)]],'درآمد ناشی از تغییر قیمت اوراق '!$A$116:$E$151,5,0) -> 2435325 | D42: 0 | E42: =Table29[[#This Row],[109217388803.0000]]+Table29[[#This Row],[271195734215.0000]]+Table29[[#This Row],[0]] -> 2435325 | F42: 0 | G42: 0 | H42: 2435325 | I42: 0 | J42: =Table29[[#This Row],[109217388803.0000]]+Table29[[#This Row],[271195734215.0000]]+Table29[[#This Row],[0]] -> 2435325 | K42: 0
A43: اختیار خرید شمش نقره-2400000-1405/09/28 (SLAZ05C240) | B43: 0 | C43: =VLOOKUP(Table29[[#This Row],[زامیاد (خزامیا)]],'درآمد ناشی از تغییر قیمت اوراق '!$A$116:$E$151,5,0) -> 128674676 | D43: 4709316 | E43: =Table29[[#This Row],[109217388803.0000]]+Table29[[#This Row],[271195734215.0000]]+Table29[[#This Row],[0]] -> 133383992 | F43: 0 | G43: 0 | H43: 128674676 | I43: 4709316 | J43: =Table29[[#This Row],[109217388803.0000]]+Table29[[#This Row],[271195734215.0000]]+Table29[[#This Row],[0]] -> 133383992 | K43: 0
A44: اختیار خرید لوتوس-900000-1406/01/28 (TLFA06C90) | B44: 0 | C44: =VLOOKUP(Table29[[#This Row],[زامیاد (خزامیا)]],'درآمد ناشی از تغییر قیمت اوراق '!$A$116:$E$151,5,0) -> 604168372 | D44: 500140 | E44: =Table29[[#This Row],[109217388803.0000]]+Table29[[#This Row],[271195734215.0000]]+Table29[[#This Row],[0]] -> 604668512 | F44: 0 | G44: 0 | H44: 604168372 | I44: 500140 | J44: =Table29[[#This Row],[109217388803.0000]]+Table29[[#This Row],[271195734215.0000]]+Table29[[#This Row],[0]] -> 604668512 | K44: 0
A45: اختیار خرید لوتوس-1100000-1406/01/28 (TLFA06C110) | B45: 0 | C45: =VLOOKUP(Table29[[#This Row],[زامیاد (خزامیا)]],'درآمد ناشی از تغییر قیمت اوراق '!$A$116:$E$151,5,0) -> 3231507001 | D45: 0 | E45: =Table29[[#This Row],[109217388803.0000]]+Table29[[#This Row],[271195734215.0000]]+Table29[[#This Row],[0]] -> 3231507001 | F45: 0.01 | G45: 0 | H45: 3231507001 | I45: 0 | J45: =Table29[[#This Row],[109217388803.0000]]+Table29[[#This Row],[271195734215.0000]]+Table29[[#This Row],[0]] -> 3231507001 | K45: 0.01
A46: اختیار خرید لوتوس-800000-1405/07/25 (TLME05C80) | B46: 0 | C46: =VLOOKUP(Table29[[#This Row],[زامیاد (خزامیا)]],'درآمد ناشی از تغییر قیمت اوراق '!$A$116:$E$151,5,0) -> -1898882314 | D46: -25821 | E46: =Table29[[#This Row],[109217388803.0000]]+Table29[[#This Row],[271195734215.0000]]+Table29[[#This Row],[0]] -> -1898908135 | F46: -0.01 | G46: 0 | H46: -1898882314 | I46: -25821 | J46: =Table29[[#This Row],[109217388803.0000]]+Table29[[#This Row],[271195734215.0000]]+Table29[[#This Row],[0]] -> -1898908135 | K46: -0.01
A47: اختیار خرید لوتوس-1000000-1405/07/25 (TLME05C100) | B47: 0 | C47: =VLOOKUP(Table29[[#This Row],[زامیاد (خزامیا)]],'درآمد ناشی از تغییر قیمت اوراق '!$A$116:$E$151,5,0) -> -1724257266 | D47: -112702 | E47: =Table29[[#This Row],[109217388803.0000]]+Table29[[#This Row],[271195734215.0000]]+Table29[[#This Row],[0]] -> -1724369968 | F47: 0 | G47: 0 | H47: -1724257266 | I47: -112702 | J47: =Table29[[#This Row],[109217388803.0000]]+Table29[[#This Row],[271195734215.0000]]+Table29[[#This Row],[0]] -> -1724369968 | K47: 0
A48: اختیار خرید لوتوس-1200000-1405/07/25 (TLME05C120) | B48: 0 | C48: =VLOOKUP(Table29[[#This Row],[زامیاد (خزامیا)]],'درآمد ناشی از تغییر قیمت اوراق '!$A$116:$E$151,5,0) -> -361952931 | D48: 0 | E48: =Table29[[#This Row],[109217388803.0000]]+Table29[[#This Row],[271195734215.0000]]+Table29[[#This Row],[0]] -> -361952931 | F48: 0 | G48: 0 | H48: -361952931 | I48: 0 | J48: =Table29[[#This Row],[109217388803.0000]]+Table29[[#This Row],[271195734215.0000]]+Table29[[#This Row],[0]] -> -361952931 | K48: 0
A49: اختیار خرید لوتوس-1400000-1405/07/25 (TLME05C140) | B49: 0 | C49: =VLOOKUP(Table29[[#This Row],[زامیاد (خزامیا)]],'درآمد ناشی از تغییر قیمت اوراق '!$A$116:$E$151,5,0) -> -3117571343 | D49: 389619114 | E49: =Table29[[#This Row],[109217388803.0000]]+Table29[[#This Row],[271195734215.0000]]+Table29[[#This Row],[0]] -> -2727952229 | F49: -0.01 | G49: 0 | H49: -3117571343 | I49: 389619114 | J49: =Table29[[#This Row],[109217388803.0000]]+Table29[[#This Row],[271195734215.0000]]+Table29[[#This Row],[0]] -> -2727952229 | K49: -0.01
A50: اختیار خرید لوتوس-1600000-1405/07/25 (TLME05C160) | B50: 0 | C50: =VLOOKUP(Table29[[#This Row],[زامیاد (خزامیا)]],'درآمد ناشی از تغییر قیمت اوراق '!$A$116:$E$151,5,0) -> -2858883890 | D50: -495016 | E50: =Table29[[#This Row],[109217388803.0000]]+Table29[[#This Row],[271195734215.0000]]+Table29[[#This Row],[0]] -> -2859378906 | F50: -0.01 | G50: 0 | H50: -2858883890 | I50: -495016 | J50: =Table29[[#This Row],[109217388803.0000]]+Table29[[#This Row],[271195734215.0000]]+Table29[[#This Row],[0]] -> -2859378906 | K50: -0.01
A51: اختیار خرید لوتوس-1800000-1405/07/25 (TLME05C180) | B51: 0 | C51: =VLOOKUP(Table29[[#This Row],[زامیاد (خزامیا)]],'درآمد ناشی از تغییر قیمت اوراق '!$A$116:$E$151,5,0) -> -257128871 | D51: 0 | E51: =Table29[[#This Row],[109217388803.0000]]+Table29[[#This Row],[271195734215.0000]]+Table29[[#This Row],[0]] -> -257128871 | F51: 0 | G51: 0 | H51: -257128871 | I51: 0 | J51: =Table29[[#This Row],[109217388803.0000]]+Table29[[#This Row],[271195734215.0000]]+Table29[[#This Row],[0]] -> -257128871 | K51: 0
A52: اختیار خرید لوتوس-2000000-1405/07/25 (TLME05C200) | B52: 0 | C52: =VLOOKUP(Table29[[#This Row],[زامیاد (خزامیا)]],'درآمد ناشی از تغییر قیمت اوراق '!$A$116:$E$151,5,0) -> 1788 | D52: 0 | E52: =Table29[[#This Row],[109217388803.0000]]+Table29[[#This Row],[271195734215.0000]]+Table29[[#This Row],[0]] -> 1788 | F52: 0 | G52: 0 | H52: 1788 | I52: 0 | J52: =Table29[[#This Row],[109217388803.0000]]+Table29[[#This Row],[271195734215.0000]]+Table29[[#This Row],[0]] -> 1788 | K52: 0
... A76: اختیار خرید شمش نقره-4500000-1405/12/22 (SLES05C450) | B76: 0 | C76: =VLOOKUP(Table29[[#This Row],[زامیاد (خزامیا)]],'درآمد ناشی از تغییر قیمت اوراق '!$A$116:$E$151,5,0) -> 0 | D76: -118065 | E76: =Table29[[#This Row],[109217388803.0000]]+Table29[[#This Row],[271195734215.0000]]+Table29[[#This Row],[0]] -> -118065 | F76: 0 | G76: 0 | H76: 0 | I76: -118065 | J76: =Table29[[#This Row],[109217388803.0000]]+Table29[[#This Row],[271195734215.0000]]+Table29[[#This Row],[0]] -> -118065 | K76: 0
A77: گواهی شمش طلا CD1G0B0001 (شمش طلا) | C77: 883906840929 | D77: 258796634561 | E77: =Table29[[#This Row],[109217388803.0000]]+Table29[[#This Row],[271195734215.0000]]+Table29[[#This Row],[0]] -> 1142703475490 | H77: 883906840929 | I77: 258796634561 | J77: =Table29[[#This Row],[109217388803.0000]]+Table29[[#This Row],[271195734215.0000]]+Table29[[#This Row],[0]] -> 1142703475490
A78: گواهی سپرده شمش نقره (شمش نقره) | C78: 628439126227 | D78: 114557700 | E78: =Table29[[#This Row],[109217388803.0000]]+Table29[[#This Row],[271195734215.0000]]+Table29[[#This Row],[0]] -> 628553683927 | H78: 628439126227 | I78: 114557700 | J78: =Table29[[#This Row],[109217388803.0000]]+Table29[[#This Row],[271195734215.0000]]+Table29[[#This Row],[0]] -> 628553683927
A79: جمع | B79: 0 | C79: =SUBTOTAL(109,C10:C78) -> 24502025848010 | D79: =SUBTOTAL(109,D10:D78) -> 2999645442762 | E79: =Table29[[#This Row],[109217388803.0000]]+Table29[[#This Row],[271195734215.0000]]+Table29[[#This Row],[0]] -> 27501671290772 | F79: 71.08 | G79: 0 | H79: 22989679880854 | I79: 2740735371271 | J79: =Table29[[#This Row],[109217388803.0000]]+Table29[[#This Row],[271195734215.0000]]+Table29[[#This Row],[0]] -> 27501671290772 | K79: 71.08

Sheet درآمد سرمایه گذاری در صندوق
A1: صندوق اختصاصی بازارگردانی امید لوتوس پارسیان
A2: صورت وضعیت درآمدها
A3: برای ماه منتهی به 1405/06/31
A5: 2- درآمد حاصل از سرمایه­گذاری‌ها
A6: ۲-۲ درآمد حاصل از سرمایه­گذاری در واحدهای صندوق:
B8: از 1405/06/01 تا 1405/06/31 | G8: از ابتدای سال مالی تا 1405/06/31
A9: نام صندوق | B9: درآمد سود صندوق | C9: درآمد تغییر ارزش | D9: درآمد فروش | E9: جمع | G9: درآمد سود صندوق | H9: درآمد تغییر ارزش | I9: درآمد فروش | J9: جمع
E10: مبلغ | F10: درصد از کل درآمدها | J10: مبلغ | K10: درصد از کل درآمدها
A11: اعتماد آفرین پارسیان (اعتماد) | B11: 0 | C11: 54445145005 | D11: 26454351857 | E11: =Table30[[#This Row],[26454351857.0000]]+Table30[[#This Row],[54445145005.0000]]+Table30[[#This Row],[0]] -> 80899496862 | F11: 0.22 | G11: 0 | H11: 54445145005 | I11: 26454351857 | J11: 80899496862 | K11: 0.22
A12: ثروت آفرین پارسیان (ثروتم) | B12: 0 | C12: 4486659829781 | D12: 367623528726 | E12: =Table30[[#This Row],[26454351857.0000]]+Table30[[#This Row],[54445145005.0000]]+Table30[[#This Row],[0]] -> 4854283358507 | F12: 13.41 | G12: 0 | H12: 4486659829781 | I12: 367623528726 | J12: 4854283358507 | K12: 13.41
A13: پشتوانه چندکالایی پارسیان (طلا) | B13: 0 | C13: 4118187950690 | D13: 122435660119 | E13: =Table30[[#This Row],[26454351857.0000]]+Table30[[#This Row],[54445145005.0000]]+Table30[[#This Row],[0]] -> 4240623610809 | F13: 11.72 | G13: 0 | H13: 4118187950690 | I13: 122435660119 | J13: 4240623610809 | K13: 11.72
A14: ص س اندیشه ورزان صبا تامین (اوصتا) | B14: 0 | C14: 241356326778 | D14: 156161855776 | E14: =Table30[[#This Row],[26454351857.0000]]+Table30[[#This Row],[54445145005.0000]]+Table30[[#This Row],[0]] -> 397518182554 | F14: 1.1 | G14: 0 | H14: 241356326778 | I14: 156161855776 | J14: 397518182554 | K14: 1.1
A15: یاقوت آگاه-ثابت (یاقوت) | B15: 0 | C15: 0 | D15: 2244445723 | E15: =Table30[[#This Row],[26454351857.0000]]+Table30[[#This Row],[54445145005.0000]]+Table30[[#This Row],[0]] -> 2244445723 | F15: 0.01 | G15: 0 | H15: 0 | I15: 2244445723 | J15: 2244445723 | K15: 0.01
A16: ص. س. اعتماد داریک (داریک) | B16: 0 | C16: 0 | D16: 1564702033 | E16: =Table30[[#This Row],[26454351857.0000]]+Table30[[#This Row],[54445145005.0000]]+Table30[[#This Row],[0]] -> 1564702033 | F16: 0 | G16: 0 | H16: 0 | I16: 1564702033 | J16: 1564702033 | K16: 0
A17: ثبات ویستا (ثبات) | B17: 0 | C17: 120798166083 | D17: 21982353173 | E17: =Table30[[#This Row],[26454351857.0000]]+Table30[[#This Row],[54445145005.0000]]+Table30[[#This Row],[0]] -> 142780519256 | F17: 0.39 | G17: 0 | H17: 120798166083 | I17: 21982353173 | J17: 142780519256 | K17: 0.39
A18: اعتماد هامرز (هامرز) | B18: 44000000000 | C18: 839690250 | D18: -4438362736 | E18: =Table30[[#This Row],[26454351857.0000]]+Table30[[#This Row],[54445145005.0000]]+Table30[[#This Row],[0]] -> 40401327514 | F18: 0.11 | G18: 44000000000 | H18: 839690250 | I18: -4438362736 | J18: 40401327514 | K18: 0.11
A19: رشد پایدار آبان (رشد) | B19: 0 | C19: 6701866817 | D19: 29573304704 | E19: =Table30[[#This Row],[26454351857.0000]]+Table30[[#This Row],[54445145005.0000]]+Table30[[#This Row],[0]] -> 36275171521 | F19: 0.1 | G19: 0 | H19: 6701866817 | I19: 29573304704 | J19: 36275171521 | K19: 0.1
A20: ارزش پاداش (پاداش) | B20: 0 | C20: 99158371065 | D20: 34880844976 | E20: =Table30[[#This Row],[26454351857.0000]]+Table30[[#This Row],[54445145005.0000]]+Table30[[#This Row],[0]] -> 134039216041 | F20: 0.37 | G20: 0 | H20: 99158371065 | I20: 34880844976 | J20: 134039216041 | K20: 0.37
A21: مختص اوراق دولتی نشان هامرز (نشان) | B21: 0 | C21: 116347381076 | D21: 0 | E21: =Table30[[#This Row],[26454351857.0000]]+Table30[[#This Row],[54445145005.0000]]+Table30[[#This Row],[0]] -> 116347381076 | F21: 0.32 | G21: 0 | H21: 116347381076 | I21: 0 | J21: 116347381076 | K21: 0.32
A22: نوع دوم افق آتی (آفاق) | B22: 0 | C22: 11090954961 | D22: 11561139726 | E22: =Table30[[#This Row],[26454351857.0000]]+Table30[[#This Row],[54445145005.0000]]+Table30[[#This Row],[0]] -> 22652094687 | F22: 0.06 | G22: 0 | H22: 11090954961 | I22: 11561139726 | J22: 22652094687 | K22: 0.06
... A33: کالای پارسیان1 (نقرسا) | B33: 0 | C33: 417512814 | D33: 14943037 | E33: =Table30[[#This Row],[26454351857.0000]]+Table30[[#This Row],[54445145005.0000]]+Table30[[#This Row],[0]] -> 432455851 | F33: 0 | G33: 0 | H33: 417512814 | I33: 14943037 | J33: 432455851 | K33: 0
A34: جمع | B34: 44000000000 | C34: 9486008989164 | D34: =SUBTOTAL(109,D11:D33) -> 892827793234 | E34: =Table30[[#This Row],[26454351857.0000]]+Table30[[#This Row],[54445145005.0000]]+Table30[[#This Row],[0]] -> 10422836782398 | F34: 28.79 | G34: 44000000000 | H34: 9486008989164 | I34: 892827793234 | J34: 10422836782398 | K34: 28.79
H35: =H34-'[1]ریز سودوزیان'!$D$221 -> 0

Sheet درآمد سرمایه گذاری در اوراق بها
A1: صندوق اختصاصی بازارگردانی امید لوتوس پارسیان
A2: صورت وضعیت درآمدها
A3: برای ماه منتهی به 1405/06/31
A5: 2- درآمد حاصل از سرمایه­گذاری‌ها
A6: 2-۳-درآمد حاصل از سرمایه­گذاری در اوراق بهادار با درآمد ثابت:
B8: از 1405/06/01 تا 1405/06/31 | F8: از ابتدای سال مالی تا 1405/06/31
A9: نام اوراق | B9: درآمد سود اوراق | C9: درآمد تغییر ارزش | D9: درآمد فروش | E9: جمع | F9: درآمد سود اوراق | G9: درآمد تغییر ارزش | H9: درآمد فروش | I9: جمع
A10: مرابحه عام دولت113-ش.خ060627 (اراد113) | B10: 80705971 | C10: 0 | D10: 0 | E10: 80705971 | F10: 80705971 | G10: 0 | H10: 0 | I10: 80705971
A11: مرابحه عام دولت115-ش.خ060630 (اراد115) | B11: 3800931030 | C11: -4244240940 | D11: 0 | E11: -443309910 | F11: 3800931030 | G11: -4244240940 | H11: 0 | I11: -443309910
A12: مرابحه سولیکو کاله لوتوس051117 (کاله52) | B12: 150381966 | C12: 91533591 | D12: 0 | E12: 241915557 | F12: 150381966 | G12: 91533591 | H12: 0 | I12: 241915557
A13: صکوک اجاره فولاد52-بدون ضامن (صفولا52) | B13: 90909863 | C13: 0 | D13: 0 | E13: 90909863 | F13: 90909863 | G13: 0 | H13: 0 | I13: 90909863
A14: مرابحه عام دولت135-ش.خ061229 (اراد135) | B14: 2024895023 | C14: 1141041450 | D14: 0 | E14: 3165936473 | F14: 2024895023 | G14: 1141041450 | H14: 0 | I14: 3165936473
A15: صکوک اجاره اخابر611-3ماهه23% (صخابر611) | B15: 1632083619 | C15: 1 | D15: 0 | E15: 1632083620 | F15: 1632083619 | G15: 1 | H15: 0 | I15: 1632083620
A16: صکوک مرابحه کسرا612-3ماهه23% (صکسرا612) | B16: 47295184 | C16: 0 | D16: 0 | E16: 47295184 | F16: 47295184 | G16: 0 | H16: 0 | I16: 47295184
A17: صکوک مرابحه پتایر073-بدون ضامن (صتایر073) | B17: 385080119 | C17: 37592129 | D17: 0 | E17: 422672248 | F17: 385080119 | G17: 37592129 | H17: 0 | I17: 422672248
A18: صکوک اجاره فارس730-بدون ضامن (صفارس730) | B18: 286859626 | C18: 1 | D18: 0 | E18: 286859627 | F18: 286859626 | G18: 1 | H18: 0 | I18: 286859627
A19: اجاره اهداف لوتوس 14070531 (اهداف071) | B19: 93927169 | C19: 0 | D19: 0 | E19: 93927169 | F19: 93927169 | G19: 0 | H19: 0 | I19: 93927169
A20: صکوک مرابحه کگل0711-3ماهه23% (صگل0711) | B20: 190528669 | C20: 0 | D20: 0 | E20: 190528669 | F20: 190528669 | G20: 0 | H20: 0 | I20: 190528669
A21: مرابحه مقدم-لوتوس071128 (مقدم071) | B21: 188553778 | C21: 0 | D21: 0 | E21: 188553778 | F21: 188553778 | G21: 0 | H21: 0 | I21: 188553778
... A35: جمع | B35: 10415620041 | C35: -3521276751 | D35: 0 | E35: 6894343290 | F35: 10415620041 | G35: -3521276751 | H35: 0 | I35: 6894343290

Sheet درآمد سپرده بانکی
A1: صندوق اختصاصی بازارگردانی امید لوتوس پارسیان
A2: صورت وضعیت درآمدها
A3: برای ماه منتهی به 1405/06/31
A5: 2- درآمد حاصل از سرمایه­گذاری‌ها
A6: ۲-۴ درآمد حاصل از سرمایه­گذاری در سپرده بانکی و گواهی سپرده:
A8: نام سپرده بانکی | C8: از 1405/06/01 تا 1405/06/31 | E8: از ابتدای سال مالی تا 1405/06/31
A9: نام سپرده | B9: شماره حساب | C9: سود سپرده بانکی و گواهی سپرده | D9: درصد سود به میانگین سپرده | E9: سود سپرده بانکی و گواهی سپرده | F9: درصد سود به میانگین سپرده
A10: پارسیان | 81000008775005 | B10: 81000008775005 | C10: 2059294 | D10: 0.37 | E10: 2059294 | F10: 0.37
A11: پارسیان | 47000953477602 | B11: 47000953477602 | C11: 9591816 | D11: 0.41 | E11: 9591816 | F11: 0.41
A12: پارسیان | 47000953472601 | B12: 47000953472601 | C12: 15164146 | D12: 0.42 | E12: 15164146 | F12: 0.42
A13: پارسیان | 47000953479609 | B13: 47000953479609 | C13: 20424775 | D13: 0.42 | E13: 20424775 | F13: 0.42
A14: پارسیان | 47000953481609 | B14: 47000953481609 | C14: 231382 | D14: 0.00 | E14: 231382 | F14: 0.00
A15: پارسیان | 47001011242609 | B15: 47001011242609 | C15: 98977 | D15: 0.00 | E15: 98977 | F15: 0.00
A16: پارسیان | 47001037419605 | B16: 47001037419605 | C16: 423171 | D16: 0.01 | E16: 423171 | F16: 0.01
A17: پارسیان | 47001042165607 | B17: 47001042165607 | C17: 4506591 | D17: 0.29 | E17: 4506591 | F17: 0.29
A18: پارسیان | 47001047271601 | B18: 47001047271601 | C18: 577203 | D18: 0.02 | E18: 577203 | F18: 0.02
A19: پارسیان | 47001047280609 | B19: 47001047280609 | C19: 61678056 | D19: 0.06 | E19: 61678056 | F19: 0.06
A20: پارسیان | 47001066025609 | B20: 47001066025609 | C20: 1510864 | D20: 0.04 | E20: 1510864 | F20: 0.04
A21: پارسیان | 47001066027605 | B21: 47001066027605 | C21: 752789 | D21: 0.02 | E21: 752789 | F21: 0.02
... A46: پارسیان | 47001532251603 | B46: 47001532251603 | C46: 12797112 | D46: 0.41 | E46: 12797112 | F46: 0.41
A47: جمع | C47: 230446760 | E47: 230446760

Sheet سایر درآمدها
A1: صندوق اختصاصی بازارگردانی امید لوتوس پارسیان
A2: صورت وضعیت درآمدها
A3: برای ماه منتهی به 1405/06/31
A6: 2- درآمد حاصل از سرمایه­گذاری‌ها
A7: ۲-۵ سایر درآمدها:
B9: از 1405/06/01 تا 1405/06/31 | C9: از ابتدای سال مالی تا 1405/06/31
A10: سایر درآمدها | B10: مبلغ | C10: مبلغ
A11: سایر درآمدها | B11: 5844295584 | C11: 5844295584
A12: درامد حاصل از بازارگردانی | B12: 19710180678 | C12: 19710180678
A13: جمع | B13: =SUBTOTAL(109,B11:B12) -> 25554476262 | C13: =SUBTOTAL(109,C11:C12) -> 25554476262

Sheet درآمد سود صندوق
A1: صندوق اختصاصی بازارگردانی امید لوتوس پارسیان
A2: صورت وضعیت درآمدها
A3: برای ماه منتهی به 1405/06/31
A5: 2- درآمد حاصل از سرمایه­گذاری‌ها
A6: ۲-۲ درآمد حاصل از سرمایه­گذاری در واحدهای صندوق
A7: ۲-۲-۱ درآمد سود صندوق
E9: از 1405/06/01 تا 1405/06/31 | F9: از ابتدای سال مالی تا 1405/06/31
A10: نام صندوق | B10: تاریخ تقسیم سود | C10: تعداد واحد صندوق در زمان تقسیم سود | D10: سود متعلق به هر واحد | E10: خالص درآمد سود صندوق | F10: خالص درآمد سود صندوق
A11: صندوق اعتماد هامرز (هامرز) | B11: 1405/06/15 | C11: 160000000 | D11: 275 | E11: 44000000000 | F11: 44000000000
A12: جمع | E12: 44000000000 | F12: 44000000000

Sheet سود اوراق بهادار
A1: صندوق اختصاصی بازارگردانی امید لوتوس پارسیان
A2: صورت وضعیت درآمدها
A3: برای ماه منتهی به 1405/06/31
A5: 2- درآمد حاصل از سرمایه­گذاری‌ها
A6: 2-۳-درآمد حاصل از سرمایه­گذاری در اوراق بهادار با درآمد ثابت
A7: ۲-۳-۱ سود اوراق بهادار با درآمد ثابت
E8: از 1405/06/01 تا 1405/06/31 | H8: از ابتدای سال مالی تا 1405/06/31
A9: نام اوراق | B9: تاریخ دریافت سود | C9: تاریخ سررسید | D9: نرخ سود علی الحساب | E9: درآمد سود | F9: هزینه تنزیل | G9: خالص درآمد | H9: درآمد سود | I9: هزینه تنزیل | J9: خالص درآمد
A10: مرابحه عام دولت263-ش.خ070223 (اراد263) | B10: 1407/02/23 | C10: 1407/02/23 | D10: 23.00 | E10: 93104298 | F10: 0 | G10: 93104298 | H10: 93104298 | I10: 0 | J10: 93104298
A11: صکوک مرابحه پتایر073-بدون ضامن (صتایر073) | B11: 1407/03/06 | C11: 1407/03/06 | D11: 26.00 | E11: 385080119 | F11: 0 | G11: 385080119 | H11: 385080119 | I11: 0 | J11: 385080119
A12: مرابحه پکاشیمی-لوتوس071219 (پکاشیمی071) | B12: 1407/12/19 | C12: 1407/12/19 | D12: 23.00 | E12: 197063266 | F12: 0 | G12: 197063266 | H12: 197063266 | I12: 0 | J12: 197063266
A13: مرابحه عام دولت279-ش.خ080218 (اراد279) | B13: 1408/02/18 | C13: 1408/02/18 | D13: 23.00 | E13: 99191035 | F13: 0 | G13: 99191035 | H13: 99191035 | I13: 0 | J13: 99191035
A14: مرابحه عام دولت135-ش.خ061229 (اراد135) | B14: 1406/12/29 | C14: 1406/12/29 | D14: 20.50 | E14: 2024895023 | F14: 0 | G14: 2024895023 | H14: 2024895023 | I14: 0 | J14: 2024895023
A15: مرابحه عام دولت202-ش.خ060530 (اراد202) | B15: 1406/05/30 | C15: 1406/05/30 | D15: 23.00 | E15: 88424843 | F15: 0 | G15: 88424843 | H15: 88424843 | I15: 0 | J15: 88424843
A16: مرابحه عام دولت228-ش.خ070521 (اراد228) | B16: 1407/05/21 | C16: 1407/05/21 | D16: 23.00 | E16: 89541856 | F16: 0 | G16: 89541856 | H16: 89541856 | I16: 0 | J16: 89541856
A17: مرابحه عام دولت239-ش.خ070922 (اراد239) | B17: 1407/09/22 | C17: 1406/10/22 | D17: 23.00 | E17: 104410548 | F17: 0 | G17: 104410548 | H17: 104410548 | I17: 0 | J17: 104410548
A18: مرابحه عام دولت257-ش.خ060825 (اراد257) | B18: 1406/08/25 | C18: 1406/08/25 | D18: 23.00 | E18: 96627805 | F18: 0 | G18: 96627805 | H18: 96627805 | I18: 0 | J18: 96627805
A19: مرابحه عام دولت115-ش.خ060630 (اراد115) | B19: 1406/06/30 | C19: 1406/06/30 | D19: 18.00 | E19: 3800931030 | F19: 0 | G19: 3800931030 | H19: 3800931030 | I19: 0 | J19: 3800931030
A20: اجاره اهداف لوتوس 14070531 (اهداف071) | B20: 1407/05/31 | C20: 1407/05/31 | D20: 23.00 | E20: 93927169 | F20: 0 | G20: 93927169 | H20: 93927169 | I20: 0 | J20: 93927169
A21: صکوک مرابحه کگل0711-3ماهه23% (صگل0711) | B21: 1407/11/20 | C21: 1407/11/20 | D21: 23.00 | E21: 190528669 | F21: 0 | G21: 190528669 | H21: 190528669 | I21: 0 | J21: 190528669
... A71: پارسیان | 47001068817605 | B71: 1405/06/22 | C71: - | D71: - | E71: 127812 | F71: 0 | G71: 127812 | H71: 127812 | I71: 0 | J71: 127812
A72: جمع | E72: 10646066801 | F72: 0 | G72: 10646066801 | H72: 10646066801 | I72: 0 | J72: 10646066801

Sheet سود سپرده بانکی
A1: صندوق اختصاصی بازارگردانی امید لوتوس پارسیان
A2: صورت وضعیت درآمدها
A3: برای ماه منتهی به 1405/06/31
A5: 2- درآمد حاصل از سرمایه­گذاری‌ها
A6: ۲-۴ درآمد حاصل از سرمایه­گذاری در سپرده بانکی و گواهی سپرده
A7: ۲-۴-۱ سود سپرده بانکی
B9: از 1405/06/01 تا 1405/06/31 | E9: از ابتدای سال مالی تا 1405/06/31
A10: نام سپرده بانکی | B10: درآمد سود | C10: هزینه تنزیل | D10: خالص درآمد | E10: درآمد سود | F10: هزینه تنزیل | G10: خالص درآمد
A11: پارسیان | 47001106835606 | B11: 1569888 | C11: 0 | D11: 1569888 | E11: 1569888 | F11: 0 | G11: 1569888
A12: پاسارگاد | 1.17230490.8100.328 | B12: 7836 | C12: 0 | D12: 7836 | E12: 7836 | F12: 0 | G12: 7836
A13: پارسیان | 47001068813602 | B13: 331886 | C13: 0 | D13: 331886 | E13: 331886 | F13: 0 | G13: 331886
A14: پارسیان | 47001106880602 | B14: 3951982 | C14: 0 | D14: 3951982 | E14: 3951982 | F14: 0 | G14: 3951982
A15: پارسیان | 47001106872603 | B15: 127326 | C15: 0 | D15: 127326 | E15: 127326 | F15: 0 | G15: 127326
A16: پارسیان | 47001066027605 | B16: 752789 | C16: 0 | D16: 752789 | E16: 752789 | F16: 0 | G16: 752789
A17: پارسیان | 81000008775005 | B17: 2059294 | C17: 0 | D17: 2059294 | E17: 2059294 | F17: 0 | G17: 2059294
A18: پارسیان | 47001011242609 | B18: 98977 | C18: 0 | D18: 98977 | E18: 98977 | F18: 0 | G18: 98977
A19: پارسیان | 47001047271601 | B19: 577203 | C19: 0 | D19: 577203 | E19: 577203 | F19: 0 | G19: 577203
A20: پارسیان | 47001068820603 | B20: 848545 | C20: 0 | D20: 848545 | E20: 848545 | F20: 0 | G20: 848545
A21: پارسیان | 47001106842607 | B21: 1409151 | C21: 0 | D21: 1409151 | E21: 1409151 | F21: 0 | G21: 1409151
A22: پارسیان | 47001068818603 | B22: 1533273 | C22: 0 | D22: 1533273 | E22: 1533273 | F22: 0 | G22: 1533273
... A48: جمع | B48: 230446760 | C48: 0 | D48: 230446760 | E48: 230446760 | F48: 0 | G48: 230446760

Sheet درآمد ناشی از فروش
A1: صندوق اختصاصی بازارگردانی امید لوتوس پارسیان
A2: صورت وضعیت درآمدها
A3: برای ماه منتهی به 1405/06/31
A5: 2- درآمد حاصل از سرمایه­گذاری‌ها
A6: ۲-۱ درآمد حاصل از سرمایه­گذاری در سهام و حق تقدم سهام
A7: ۲-۱-۲ سود(زیان) حاصل از فروش سهام و حق تقدم
B9: از 1405/06/01 تا 1405/06/31 | F9: از ابتدای سال مالی تا 1405/06/31
A10: شرح | B10: تعداد | C10: خالص بهای فروش | D10: ارزش دفتری | E10: سود و زیان ناشی از فروش | F10: تعداد | G10: خالص ارزش فروش | H10: ارزش دفتری | I10: سود و زیان ناشی از فروش
A11: زامیاد (خزامیا) | B11: 559933399 | C11: 921233768828 | D11: -812016380025 | E11: 109217388803 | F11: 559933399 | G11: 921233768828 | H11: -812016380025 | I11: 109217388803
A12: ایران خودرو دیزل (خاور) | B12: 3000000 | C12: 4903466432 | D12: -4298730480 | E12: 604735952 | F12: 3000000 | G12: 4903466432 | H12: -4298730480 | I12: 604735952
A13: لیزینگ رایان سایپا (ولساپا) | B13: 136629766 | C13: 159620336332 | D13: -140117241077 | E13: 19503095255 | F13: 136629766 | G13: 159620336332 | H13: -140117241077 | I13: 19503095255
A14: سایپا (خساپا) | B14: 1814550166 | C14: 1310296910160 | D14: -1170203226983 | E14: 140093683177 | F14: 1814550166 | G14: 1310296910160 | H14: -1170203226983 | I14: 140093683177
A15: فنرسازی زر (خزر) | B15: 44046849 | C15: 94844591935 | D15: -80242081061 | E15: 14602510874 | F15: 44046849 | G15: 94844591935 | H15: -80242081061 | I15: 14602510874
A16: سر. سایپا (وساپا) | B16: 126565619 | C16: 1143755040496 | D16: -1096135877677 | E16: 47619162819 | F16: 126565619 | G16: 1143755040496 | H16: -1096135877677 | I16: 47619162819
A17: سر. ایران خودرو (خگستر) | B17: 190652580 | C17: 778495473565 | D17: -716355178757 | E17: 62140294808 | F17: 190652580 | G17: 778495473565 | H17: -716355178757 | I17: 62140294808
A18: ایران خودرو (خودرو) | B18: 2515305012 | C18: 1828261387420 | D18: -1631753321367 | E18: 196508066053 | F18: 2515305012 | G18: 1828261387420 | H18: -1631753321367 | I18: 196508066053
A19: پارس خودرو (خپارس) | B19: 115338187 | C19: 187606053631 | D19: -178255132886 | E19: 9350920745 | F19: 115338187 | G19: 187606053631 | H19: -178255132886 | I19: 9350920745
A20: سایپا آذین (خاذین) | B20: 26412805 | C20: 76996111434 | D20: -65071330064 | E20: 11924781370 | F20: 26412805 | G20: 76996111434 | H20: -65071330064 | I20: 11924781370
A21: بانک پارسیان (وپارس) | B21: 3890133780 | C21: 7686768664456 | D21: -5987691446412 | E21: 1699077218044 | F21: 3890133780 | G21: 7686768664456 | H21: -5987691446412 | I21: 1699077218044
A22: کمک فنر ایندامین (خکمک) | B22: 41976209 | C22: 116512321689 | D22: -98992228694 | E22: 17520092995 | F22: 41976209 | G22: 116512321689 | H22: -98992228694 | I22: 17520092995
... A31: فنرسازی زر گلپایگان (خگلپا) | B31: 201000000 | C31: 922798148588 | D31: -746715000000 | E31: 176083148588 | F31: 201000000 | G31: 922798148588 | H31: -746715000000 | I31: 176083148588
A32: جمع | C32: 1.728804e+13 | D32: -1.4549902e+13 | E32: 2738137609766 | G32: 1.728804e+13 | H32: -1.4549902e+13 | I32: 2738137609766
A35: ۲-۱-۲ سود(زیان) حاصل از فروش اوراق بهادار با درآمد ثابت
B36: از 1405/06/01 تا 1405/06/31 | F36: از ابتدای سال مالی تا 1405/06/31
A37: شرح | B37: تعداد | C37: خالص بهای فروش | D37: ارزش دفتری | E37: سود و زیان ناشی از فروش | F37: تعداد | G37: خالص ارزش فروش | H37: ارزش دفتری | I37: سود و زیان ناشی از فروش
A38: جمع | C38: 0 | D38: 0 | E38: 0 | G38: 0 | H38: 0 | I38: 0
A41: ۲-۱-۲ سود(زیان) حاصل از فروش صندوق‌های سرمایه گذاری
B42: از 1405/06/01 تا 1405/06/31 | F42: از ابتدای سال مالی تا 1405/06/31
A43: شرح | B43: تعداد | C43: خالص بهای فروش | D43: ارزش دفتری | E43: سود و زیان ناشی از فروش | F43: تعداد | G43: خالص ارزش فروش | H43: ارزش دفتری | I43: سود و زیان ناشی از فروش
A44: اعتماد آفرین پارسیان (اعتماد) | B44: 20544546 | C44: 2829775695864 | D44: -2803321344007 | E44: 26454351857 | F44: 20544546 | G44: 2829775695864 | H44: -2803321344007 | I44: 26454351857
A45: ثروت آفرین پارسیان (ثروتم) | B45: 9083626 | C45: 4942010761687 | D45: -4574387232961 | E45: 367623528726 | F45: 9083626 | G45: 4942010761687 | H45: -4574387232961 | I45: 367623528726
A46: پشتوانه چندکالایی پارسیان (طلا) | B46: 1481209 | C46: 2329529849070 | D46: -2207094188951 | E46: 122435660119 | F46: 1481209 | G46: 2329529849070 | H46: -2207094188951 | I46: 122435660119
A47: ص س اندیشه ورزان صبا تامین (اوصتا) | B47: 191893316 | C47: 13346582766063 | D47: -13190420910287 | E47: 156161855776 | F47: 191893316 | G47: 13346582766063 | H47: -13190420910287 | I47: 156161855776
A48: یاقوت آگاه-ثابت (یاقوت) | B48: 6100000 | C48: 281271416572 | D48: -279026970849 | E48: 2244445723 | F48: 6100000 | G48: 281271416572 | H48: -279026970849 | I48: 2244445723
A49: ص. س. اعتماد داریک (داریک) | B49: 3435000 | C49: 138258192714 | D49: -136693490681 | E49: 1564702033 | F49: 3435000 | G49: 138258192714 | H49: -136693490681 | I49: 1564702033
A50: ثبات ویستا (ثبات) | B50: 47699878 | C50: 1791047451160 | D50: -1769065097987 | E50: 21982353173 | F50: 47699878 | G50: 1791047451160 | H50: -1769065097987 | I50: 21982353173
A51: اعتماد هامرز (هامرز) | B51: 40000000 | C51: 400812146014 | D51: -405250508750 | E51: -4438362736 | F51: 40000000 | G51: 400812146014 | H51: -405250508750 | I51: -4438362736
A52: رشد پایدار آبان (رشد) | B52: 60689063 | C52: 1332450153543 | D52: -1302876848839 | E52: 29573304704 | F52: 60689063 | G52: 1332450153543 | H52: -1302876848839 | I52: 29573304704
A53: ارزش پاداش (پاداش) | B53: 51972000 | C53: 1477247412104 | D53: -1442366567128 | E53: 34880844976 | F53: 51972000 | G53: 1477247412104 | H53: -1442366567128 | I53: 34880844976
A54: نوع دوم افق آتی (آفاق) | B54: 40531039 | C54: 479765112506 | D54: -468203972780 | E54: 11561139726 | F54: 40531039 | G54: 479765112506 | H54: -468203972780 | I54: 11561139726
A55: ثابت آوند مفید (آوند) | B55: 22000000 | C55: 666011510739 | D55: -663511827698 | E55: 2499683041 | F55: 22000000 | G55: 666011510739 | H55: -663511827698 | I55: 2499683041
... A61: کالای پارسیان1 (نقرسا) | B61: 50000 | C61: 494802945 | D61: -479859908 | E61: 14943037 | F61: 50000 | G61: 494802945 | H61: -479859908 | I61: 14943037
A62: جمع | C62: 41099000802099 | D62: -40206173008865 | E62: 892827793234 | G62: 41099000802099 | H62: -40206173008865 | I62: 892827793234
A65: ۲-۱-۲ سود(زیان) حاصل از فروش گواهی سپرده کالایی
B66: از 1405/06/01 تا 1405/06/31 | F66: از ابتدای سال مالی تا 1405/06/31
A67: شرح | B67: تعداد | C67: خالص بهای فروش | D67: ارزش دفتری | E67: سود و زیان ناشی از فروش | F67: تعداد | G67: خالص ارزش فروش | H67: ارزش دفتری | I67: سود و زیان ناشی از فروش
A68: گواهی شمش طلا CD1G0B0001 (شمش طلا) | B68: 93648 | C68: 2875557100243 | D68: -2616760465682 | E68: 258796634561 | F68: 93648 | G68: 2875557100243 | H68: -2616760465682 | I68: 258796634561
A69: گواهی سپرده شمش نقره (شمش نقره) | B69: 9170 | C69: 39556818525 | D69: -39442260825 | E69: 114557700 | F69: 9170 | G69: 39556818525 | H69: -39442260825 | I69: 114557700
A70: جمع | C70: 2915113918768 | D70: -2656202726507 | E70: 258911192261 | G70: 2915113918768 | H70: -2656202726507 | I70: 258911192261
A73: ۲-۱-۲ سود(زیان) حاصل از فروش اختیار معامله
B74: از 1405/06/01 تا 1405/06/31 | F74: از ابتدای سال مالی تا 1405/06/31
A75: شرح | B75: تعداد | C75: خالص بهای فروش | D75: ارزش دفتری | E75: سود و زیان ناشی از فروش | F75: تعداد | G75: خالص ارزش فروش | H75: ارزش دفتری | I75: سود و زیان ناشی از فروش
A76: اختیار خرید لوتوس-800000-1405/07/25 (TLME05C80) | B76: -53 | C76: 43075757 | D76: -43101578 | E76: -25821 | F76: -53 | G76: 43075757 | H76: -43101578 | I76: -25821
A77: اختیار خرید لوتوس-1000000-1405/07/25 (TLME05C100) | B77: -261 | C77: 187726649 | D77: -187839351 | E77: -112702 | F77: -261 | G77: 187726649 | H77: -187839351 | I77: -112702
A78: اختیار خرید لوتوس-1400000-1405/07/25 (TLME05C140) | B78: 10999 | C78: -1708748822 | D78: 2098367936 | E78: 389619114 | F78: 10999 | G78: -1708748822 | H78: 2098367936 | I78: 389619114
A79: اختیار خرید لوتوس-1600000-1405/07/25 (TLME05C160) | B79: -10000 | C79: 824535926 | D79: -825030942 | E79: -495016 | F79: -10000 | G79: 824535926 | H79: -825030942 | I79: -495016
A80: اختیار خرید شمش نقره-3000000-1405/06/24 (SLSH05C300) | B80: 160 | C80: 2387314780 | D80: -1737431464 | E80: 649883316 | F80: 160 | G80: 2387314780 | H80: -1737431464 | I80: 649883316
A81: اختیار خرید شمش نقره-3500000-1405/06/24 (SLSH05C350) | B81: 593 | C81: 2123071440 | D81: =Table20[[#This Row],[-25821.0000]]-Table20[[#This Row],[43075757.0000]] -> -1613964438 | E81: 509107002 | F81: 593 | G81: 2123071440 | H81: -1612843668 | I81: 510227772
A82: اختیار خرید شمش نقره-4000000-1405/06/24 (SLSH05C400) | B82: 542 | C82: 2250239360 | D82: -1641146587 | E82: 609092773 | F82: 542 | G82: 2250239360 | H82: -1641146587 | I82: 609092773
A83: اختیار خرید شمش نقره-4500000-1405/06/24 (SLSH05C450) | B83: 200 | C83: 1864359281 | D83: -1428116890 | E83: 436242391 | F83: 200 | G83: 1864359281 | H83: -1428116890 | I83: 436242391
A84: اختیار خرید شمش نقره-5000000-1405/06/24 (SLSH05C500) | B84: -100 | C84: 7901152 | D84: -7000000 | E84: 901152 | F84: -100 | G84: 7901152 | H84: -7000000 | I84: 901152
A85: اختیار خرید شمش نقره-2400000-1405/09/28 (SLAZ05C240) | B85: 3 | C85: 1445397 | D85: 3263919 | E85: 4709316 | F85: 3 | G85: 1445397 | H85: 3263919 | I85: 4709316
A86: اختیار خرید شمش نقره-3000000-1405/09/28 (SLAZ05C300) | B86: -70 | C86: 195919759 | D86: -196037380 | E86: -117621 | F86: -70 | G86: 195919759 | H86: -196037380 | I86: -117621
A87: اختیار خرید لوتوس-700000-1405/07/25 (TLME05C70) | B87: -3 | C87: 3089172 | D87: -3091026 | E87: -1854 | F87: -3 | G87: 3089172 | H87: -3091026 | I87: -1854
A88: اختیار خرید لوتوس-600000-1405/07/25 (TLME05C60) | B88: -197 | C88: 200782372 | D88: -200902808 | E88: -120436 | F88: -197 | G88: 200782372 | H88: -200902808 | I88: -120436
A89: اختیار خرید لوتوس-900000-1406/01/28 (TLFA06C90) | B89: 0 | C89: 631666 | D89: -131526 | E89: 500140 | F89: 0 | G89: 631666 | H89: -131526 | I89: 500140
A90: اختیار خرید لوتوس-1900000-1406/01/28 (TLFA06C190) | B90: -20 | C90: 8794720 | D90: -8800000 | E90: -5280 | F90: -20 | G90: 8794720 | H90: -8800000 | I90: -5280
A91: اختیار خرید لوتوس-2100000-1406/01/28 (TLFA06C210) | B91: -21000 | C91: 4027042326 | D91: -4029460000 | E91: -2417674 | F91: -21000 | G91: 4027042326 | H91: -4029460000 | I91: -2417674
A92: اختیار خرید شمش نقره-4500000-1405/12/22 (SLES05C450) | B92: -100 | C92: 196656935 | D92: -196775000 | E92: -118065 | F92: -100 | G92: 196656935 | H92: -196775000 | I92: -118065
A93: جمع | C93: 12613837870 | D93: =SUBTOTAL(109,D76:D92) -> -10017197135 | E93: =SUBTOTAL(109,E76:E92) -> 2596640735 | G93: 12613837870 | H93: -10016076365 | I93: 2597761505
A97: ارزش دفتری برابر است با میانگین موزون خالص ارزش فروش هر سهم/ورقه در ابتدای دوره با خرید طی دوره ضربدر تعداد در پایان دوره

Sheet درآمد ناشی از تغییر قیمت اوراق 
A1: صندوق اختصاصی بازارگردانی امید لوتوس پارسیان
A2: صورت وضعیت درآمدها
A3: برای ماه منتهی به 1405/06/31
A5: 2- درآمد حاصل از سرمایه­گذاری‌ها
A6: ۲-۱ درآمد حاصل از سرمایه­گذاری در سهام و حق تقدم سهام
A7: ۲-۱-۳ درآمد ناشی از تغییر قیمت سهام و حق تقدم
B9: از 1405/06/01 تا 1405/06/31 | F9: از ابتدای سال مالی تا 1405/06/31
A10: شرح | B10: تعداد | C10: خالص ارزش فروش | D10: ارزش دفتری | E10: سود و زیان ناشی از تغییر قیمت | F10: تعداد | G10: خالص ارزش فروش | H10: ارزش دفتری | I10: سود و زیان ناشی از تغییر قیمت
A11: اشتاد ایران (تشتاد) | B11: 6665380 | C11: 44490899603 | D11: -33234968413 | E11: 11255931190 | F11: 6665380 | G11: 44490899603 | H11: -33234968413 | I11: 11255931190
A12: ایران خودرو (خودرو) | B12: 10057104879 | C12: 6702990806692 | D12: -6635937008913 | E12: 67053797779 | F12: 10057104879 | G12: 6702990806692 | H12: -6635937008913 | I12: 67053797779
A13: ایران خودرو دیزل (خاور) | B13: 783519511 | C13: 1144744570934 | D13: -1122713067870 | E13: 22031503064 | F13: 783519511 | G13: 1144744570934 | H13: -1122713067870 | I13: 22031503064
A14: بانک پارسیان (وپارس) | B14: 24808426939 | C14: 57214333409687 | D14: -38262004553371 | E14: 18952328856316 | F14: 24808426939 | G14: 57214333409687 | H14: -38262004553371 | I14: 18952328856316
A15: بورس اوراق بهادار تهران (بورس) | B15: 51860839 | C15: 274135336995 | D15: -221795697983 | E15: 52339639012 | F15: 51860839 | G15: 274135336995 | H15: -221795697983 | I15: 52339639012
A16: بیمه اتکای آوای پارس (آواپارس) | B16: 520409315 | C16: 2215258804705 | D16: -1716045552938 | E16: 499213251767 | F16: 520409315 | G16: 2215258804705 | H16: -1716045552938 | I16: 499213251767
A17: بیمه پارسیان (پارسیان) | B17: 6847858655 | C17: 12569955916812 | D17: -11194582406043 | E17: 1375373510769 | F17: 6847858655 | G17: 12569955916812 | H17: -11194582406043 | I17: 1375373510769
A18: پارس خودرو (خپارس) | B18: 24338612 | C18: 52823289033 | D18: -52323071630 | E18: 500217403 | F18: 24338612 | G18: 52823289033 | H18: -52323071630 | I18: 500217403
A19: تامین سرمایه لوتوس پارسیان (لوتوس) | B19: 1800358337 | C19: 6152546021153 | D19: -5037172181059 | E19: 1115373840094 | F19: 1800358337 | G19: 6152546021153 | H19: -5037172181059 | I19: 1115373840094
A20: تجارت الکترونیک پارسیان (رتاپ) | B20: 199889276 | C20: 1923470778251 | D20: -1709751802886 | E20: 213718975365 | F20: 199889276 | G20: 1923470778251 | H20: -1709751802886 | I20: 213718975365
A21: تجارت الکترونیک پارسیان کیش (تاپکیش) | B21: 220690469 | C21: 549101633170 | D21: -315713063496 | E21: 233388569674 | F21: 220690469 | G21: 549101633170 | H21: -315713063496 | I21: 233388569674
A22: تجارت الکترونیک پارسیان کیش (حق تقدم) (تاپکیشح) | B22: 206507495 | C22: 224823222957 | D22: -661229156913 | E22: -436405933956 | F22: 206507495 | G22: 224823222957 | H22: -661229156913 | I22: -436405933956
... A41: ملی صنایع مس ایران (فملی) | B41: 28821918 | C41: 700128324356 | D41: -552384255906 | E41: 147744068450 | F41: 28821918 | G41: 700128324356 | H41: -552384255906 | I41: 147744068450
A42: جمع | C42: 102896117873019 | D42: -79870762789902 | E42: 23025355083117 | G42: 102896117873019 | H42: -79870762789902 | I42: 23025355083117
K43: =E42+E110+E152 -> 24502025848010
A45: ۲-۱-۳ درآمد ناشی از تغییر قیمت اوراق بهادار با درآمد ثابت
B46: از 1405/06/01 تا 1405/06/31 | F46: از ابتدای سال مالی تا 1405/06/31
A47: شرح | B47: تعداد | C47: خالص ارزش فروش | D47: ارزش دفتری | E47: سود و زیان ناشی از تغییر قیمت | F47: تعداد | G47: خالص ارزش فروش | H47: ارزش دفتری | I47: سود و زیان ناشی از تغییر قیمت
A48: اجاره اهداف لوتوس 14070531 (اهداف071) | B48: 5000 | C48: 4236926000 | D48: -4236926000 | E48: 0 | F48: 5000 | G48: 4236926000 | H48: -4236926000 | I48: 0
A49: صکوک اجاره اخابر611-3ماهه23% (صخابر611) | B49: 85000 | C49: 76812320665 | D49: -76812320664 | E49: 1 | F49: 85000 | G49: 76812320665 | H49: -76812320664 | I49: 1
A50: صکوک اجاره فارس084-بدون ضامن (صفارس084) | B50: 10000 | C50: 8093637856 | D50: -8093637855 | E50: 1 | F50: 10000 | G50: 8093637856 | H50: -8093637855 | I50: 1
A51: صکوک اجاره فارس730-بدون ضامن (صفارس730) | B51: 15000 | C51: 13961320700 | D51: -13961320699 | E51: 1 | F51: 15000 | G51: 13961320700 | H51: -13961320699 | I51: 1
A52: صکوک اجاره فارس804-بدون ضامن (صفارس804) | B52: 4500 | C52: 4361835375 | D52: -4361835375 | E52: 0 | F52: 4500 | G52: 4361835375 | H52: -4361835375 | I52: 0
A53: صکوک اجاره فولاد52-بدون ضامن (صفولا52) | B53: 5000 | C53: 4996375000 | D53: -4996375000 | E53: 0 | F53: 5000 | G53: 4996375000 | H53: -4996375000 | I53: 0
A54: صکوک مرابحه پتایر073-بدون ضامن (صتایر073) | B54: 17914 | C54: 16238008306 | D54: -16200416177 | E54: 37592129 | F54: 17914 | G54: 16238008306 | H54: -16200416177 | I54: 37592129
A55: صکوک مرابحه کسرا612-3ماهه23% (صکسرا612) | B55: 2400 | C55: 2232780060 | D55: -2232780060 | E55: 0 | F55: 2400 | G55: 2232780060 | H55: -2232780060 | I55: 0
A56: صکوک مرابحه کگل0711-3ماهه23% (صگل0711) | B56: 10000 | C56: 8343946250 | D56: -8343946250 | E56: 0 | F56: 10000 | G56: 8343946250 | H56: -8343946250 | I56: 0
A57: مرابحه ایران ریس البرز080608 (ایران ریس08) | B57: 5000 | C57: 4301878875 | D57: -4301878875 | E57: 0 | F57: 5000 | G57: 4301878875 | H57: -4301878875 | I57: 0
A58: مرابحه پکاشیمی-لوتوس071219 (پکاشیمی071) | B58: 10000 | C58: 8203048475 | D58: -8203048475 | E58: 0 | F58: 10000 | G58: 8203048475 | H58: -8203048475 | I58: 0
A59: مرابحه سولیکو کاله لوتوس051117 (کاله52) | B59: 10000 | C59: 9375697688 | D59: -9284164097 | E59: 91533591 | F59: 10000 | G59: 9375697688 | H59: -9284164097 | I59: 91533591
... A72: مرابحه مقدم-لوتوس071128 (مقدم071) | B72: 10000 | C72: 8458862875 | D72: -8458862875 | E72: 0 | F72: 10000 | G72: 8458862875 | H72: -8458862875 | I72: 0
A73: جمع | C73: 501432197311 | D73: -504953474062 | E73: -3521276751 | G73: 501432197311 | H73: -504953474062 | I73: -3521276751
A76: ۲-۱-۳ درآمد ناشی از تغییر قیمت صندوق‌های سرمایه گذاری
B77: از 1405/06/01 تا 1405/06/31 | F77: از ابتدای سال مالی تا 1405/06/31
A78: شرح | B78: تعداد | C78: خالص ارزش فروش | D78: ارزش دفتری | E78: سود و زیان ناشی از تغییر قیمت | F78: تعداد | G78: خالص ارزش فروش | H78: ارزش دفتری | I78: سود و زیان ناشی از تغییر قیمت
A79: با درآمد ثابت پایش (پایش) | B79: 146000000 | C79: 3089096475478 | D79: -3000653101000 | E79: 88443374478 | F79: 146000000 | G79: 3089096475478 | H79: -3000653101000 | I79: 88443374478
A80: ارزش پاداش (پاداش) | B80: 134700000 | C80: 3849114315528 | D80: -3749955944463 | E80: 99158371065 | F80: 134700000 | G80: 3849114315528 | H80: -3749955944463 | I80: 99158371065
A81: اعتماد هامرز (هامرز) | B81: 120000000 | C81: 1216591216500 | D81: -1215751526250 | E81: 839690250 | F81: 120000000 | G81: 1216591216500 | H81: -1215751526250 | I81: 839690250
A82: اطمینان هیوا (اطمینان) | B82: 60000000 | C82: 1103053099125 | D82: -1070844980250 | E82: 32208118875 | F82: 60000000 | G82: 1103053099125 | H82: -1070844980250 | I82: 32208118875
A83: با درآمد ثابت کارآمد (کارآمد) | B83: 39000000 | C83: 719206694706 | D83: -700032454415 | E83: 19174240291 | F83: 39000000 | G83: 719206694706 | H83: -700032454415 | I83: 19174240291
A84: با درآمد ثابت پاسارگاد (پاسارگاد) | B84: 58881000 | C84: 1021502936882 | D84: -998292507750 | E84: 23210429132 | F84: 58881000 | G84: 1021502936882 | H84: -998292507750 | I84: 23210429132
A85: با درآمد ثابت ثمر گندم (ثمر) | B85: 10000 | C85: 141297885 | D85: -139572957 | E85: 1724928 | F85: 10000 | G85: 141297885 | H85: -139572957 | I85: 1724928
A86: با درآمد ثابت شمیم تابان مهرگان (شمیم) | B86: 112000000 | C86: 2140650344000 | D86: -2075714298000 | E86: 64936046000 | F86: 112000000 | G86: 2140650344000 | H86: -2075714298000 | I86: 64936046000
A87: رشد پایدار آبان (رشد) | B87: 10383272 | C87: 229520626799 | D87: -222818759982 | E87: 6701866817 | F87: 10383272 | G87: 229520626799 | H87: -222818759982 | I87: 6701866817
A88: زمرد کوروش (زمرد کوروش) | B88: 218906 | C88: 3933384395 | D88: -3746355967 | E88: 187028428 | F88: 218906 | G88: 3933384395 | H88: -3746355967 | I88: 187028428
A89: طلوع تدبیر پایا (خورشید) | B89: 4100000 | C89: 99667034226 | D89: -99740565774 | E89: -73531548 | F89: 4100000 | G89: 99667034226 | H89: -99740565774 | I89: -73531548
A90: مختص اوراق دولتی نشان هامرز (نشان) | B90: 126100000 | C90: 4029678307980 | D90: -3913330926904 | E90: 116347381076 | F90: 126100000 | G90: 4029678307980 | H90: -3913330926904 | I90: 116347381076
... A101: اعتماد آفرین پارسیان (اعتماد) | B101: 21476782 | C101: 3011638829373 | D101: -2957193684368 | E101: 54445145005 | F101: 21476782 | G101: 3011638829373 | H101: -2957193684368 | I101: 54445145005
A102: جمع | C102: 105658828286481 | D102: -96172819297317 | E102: 9486008989164 | G102: 105658828286481 | H102: -96172819297317 | I102: 9486008989164
A105: ۲-۱-۳ درآمد ناشی از تغییر قیمت گواهی سپرده کالایی
B106: از 1405/06/01 تا 1405/06/31 | F106: از ابتدای سال مالی تا 1405/06/31
A107: شرح | B107: تعداد | C107: خالص ارزش فروش | D107: ارزش دفتری | E107: سود و زیان ناشی از تغییر قیمت | F107: تعداد | G107: خالص ارزش فروش | H107: ارزش دفتری | I107: سود و زیان ناشی از تغییر قیمت
A108: گواهی شمش طلا CD1G0B0001 (شمش طلا) | B108: 233090 | C108: 7420418544199 | D108: -6536511703270 | E108: 883906840929 | F108: 233090 | G108: 7420418544199 | H108: -6536511703270 | I108: 883906840929
A109: گواهی سپرده شمش نقره (شمش نقره) | B109: 1205479 | C109: 6033857994839 | D109: -5405418868612 | E109: 628439126227 | F109: 1205479 | G109: 6033857994839 | H109: -5405418868612 | I109: 628439126227
A110: جمع | C110: 13454276539038 | D110: -11941930571882 | E110: 1512345967156 | G110: 13454276539038 | H110: -11941930571882 | I110: 1512345967156
A113: ۲-۱-۳ درآمد ناشی از تغییر قیمت اختیار معامله
B114: از 1405/06/01 تا 1405/06/31 | F114: از ابتدای سال مالی تا 1405/06/31
A115: شرح | B115: تعداد | C115: خالص ارزش فروش | D115: ارزش دفتری | E115: سود و زیان ناشی از تغییر قیمت | F115: تعداد | G115: خالص ارزش فروش | H115: ارزش دفتری | I115: سود و زیان ناشی از تغییر قیمت
A116: اختیار خرید شمش نقره-2400000-1405/09/28 (SLAZ05C240) | B116: 96 | C116: 274922852 | D116: -146248176 | E116: 128674676 | F116: 96 | G116: 274922852 | H116: -146248176 | I116: 128674676
A117: اختیار خرید شمش نقره-2700000-1405/09/28 (SLAZ05C270) | B117: 197 | C117: 484488010 | D117: -562782288 | E117: -78294278 | F117: 197 | G117: 484488010 | H117: -562782288 | I117: -78294278
A118: اختیار خرید شمش نقره-3000000-1405/06/24 (SLSH05C300) | B118: 0 | C118: 0 | D118: 0 | E118: 0 | F118: 0 | G118: 0 | H118: 0 | I118: 0
A119: اختیار خرید شمش نقره-3000000-1405/09/28 (SLAZ05C300) | B119: 513 | C119: 1179900000 | D119: -1287014756 | E119: -107114756 | F119: 513 | G119: 1179900000 | H119: -1287014756 | I119: -107114756
A120: اختیار خرید شمش نقره-3300000-1405/09/28 (SLAZ05C330) | B120: 233 | C120: 488961917 | D120: -573322251 | E120: -84360334 | F120: 233 | G120: 488961917 | H120: -573322251 | I120: -84360334
A121: اختیار خرید شمش نقره-3500000-1405/06/24 (SLSH05C350) | B121: 0 | C121: 0 | D121: 0 | E121: 0 | F121: 0 | G121: 0 | H121: 0 | I121: 0
A122: اختیار خرید شمش نقره-3600000-1405/09/28 (SLAZ05C360) | B122: 116 | C122: 223686744 | D122: -271079520 | E122: -47392776 | F122: 116 | G122: 223686744 | H122: -271079520 | I122: -47392776
A123: اختیار خرید شمش نقره-3900000-1405/09/28 (SLAZ05C390) | B123: 106 | C123: 171775756 | D123: -203614083 | E123: -31838327 | F123: 106 | G123: 171775756 | H123: -203614083 | I123: -31838327
A124: اختیار خرید شمش نقره-4000000-1405/06/24 (SLSH05C400) | B124: 0 | C124: 0 | D124: 0 | E124: 0 | F124: 0 | G124: 0 | H124: 0 | I124: 0
A125: اختیار خرید شمش نقره-4200000-1405/09/28 (SLAZ05C420) | B125: 100 | C125: 141580100 | D125: -179701112 | E125: -38121012 | F125: 100 | G125: 141580100 | H125: -179701112 | I125: -38121012
A126: اختیار خرید شمش نقره-4500000-1405/06/24 (SLSH05C450) | B126: 0 | C126: 0 | D126: 0 | E126: 0 | F126: 0 | G126: 0 | H126: 0 | I126: 0
A127: اختیار خرید شمش نقره-4500000-1405/12/22 (SLES05C450) | B127: 100 | C127: 196775000 | D127: -196775000 | E127: 0 | F127: 100 | G127: 196775000 | H127: -196775000 | I127: 0
... A151: اختیار خرید لوتوس-900000-1406/01/28 (TLFA06C90) | B151: 1324 | C151: 1309600401 | D151: -705432029 | E151: 604168372 | F151: 1324 | G151: 1309600401 | H151: -705432029 | I151: 604168372
A152: جمع | C152: 163351128191 | D152: -199026330454 | E152: -35675202263 | G152: 163351128191 | H152: -199026330454 | I152: -35675202263
A155: ارزش دفتری برابر است با میانگین موزون خالص ارزش فروش هر سهم/ورقه در ابتدای دوره با خرید طی دوره ضربدر تعداد در پایان دوره
